BEGIN:VCALENDAR
VERSION:2.0
PRODID:-//PSK Oberschwaben//ICS Export//DE
CALSCALE:GREGORIAN
BEGIN:VTIMEZONE
TZID:Europe/Berlin
X-LIC-LOCATION:Europe/Berlin
BEGIN:DAYLIGHT
TZOFFSETFROM:+0100
TZOFFSETTO:+0200
TZNAME:CEST
DTSTART:19700329T020000
RRULE:FREQ=YEARLY;BYMONTH=3;BYDAY=-1SU
END:DAYLIGHT
BEGIN:STANDARD
TZOFFSETFROM:+0200
TZOFFSETTO:+0100
TZNAME:CET
DTSTART:19701025T030000
RRULE:FREQ=YEARLY;BYMONTH=10;BYDAY=-1SU
END:STANDARD
END:VTIMEZONE
BEGIN:VEVENT
UID:5ef3f9008c7280c1c3d5de020b22a721b5658157@psk-oberschwaben.de
DTSTAMP:20260420T021106Z
DTSTART;TZID=Europe/Berlin:20260829T080000
DTEND;TZID=Europe/Berlin:20260830T180000
SUMMARY:📣 🐴 PSKO-Meisterschaften Dressur: 2026 Dressur-MS mit LK 5+6 beim RG Baindt! 🏆
DESCRIPTION:🎉 Einladung zur Dressur-Meisterschaft des PSKO 🎉\n\nLiebe Reitsportfreunde\,\nes ist wieder soweit – die PSKO Dressur-Meisterschaft steht vor der Tür!\nAm 29. und 30. August 2026 verwandelt sich der RG Baindt in das Zentrum des Dressursports.\n\nWas erwartet euch?\n✨ Dressurprüfungen bis Klasse M\n✨ PSKO Meisterschaft – LK 5 + 6 Dressur\n✨ Zwei Tage voller Eleganz\, Präzision und Leidenschaft für den Reitsport!\n\n📍 Ort: RG Baindt\n📅 Datum: 29.08.2026 - 30.08.2026\n\nKommt vorbei\, feuert eure Favoriten an und genießt ein Wochenende voller sportlicher Highlights und guter Stimmung!\nFür das leibliche Wohl ist selbstverständlich gesorgt.\n\nWir freuen uns auf euch!\nEuer PSKO-Team\n\n\n \nPDF: https://psk-oberschwaben.de/site/assets/files/2544/2026_01_24_flyer_psko_meisterschaften_2026_sparte_dressur.pdf\nPDF: https://psk-oberschwaben.de/site/assets/files/2544/ausschreibung_psk-meisterschaft_dressur_2026-1.pdf
LOCATION:Reitergruppe Baindt e.V.\, Reitanlage in der Sulpacher Str. 125/1\, 88255 Baindt
ATTACH:https://psk-oberschwaben.de/site/assets/files/2544/2026_01_24_flyer_psko_meisterschaften_2026_sparte_dressur.pdf
ATTACH:https://psk-oberschwaben.de/site/assets/files/2544/ausschreibung_psk-meisterschaft_dressur_2026-1.pdf
END:VEVENT
END:VCALENDAR
