BEGIN:VCALENDAR
VERSION:2.0
PRODID:-//PSK Oberschwaben//ICS Export//DE
CALSCALE:GREGORIAN
BEGIN:VTIMEZONE
TZID:Europe/Berlin
X-LIC-LOCATION:Europe/Berlin
BEGIN:DAYLIGHT
TZOFFSETFROM:+0100
TZOFFSETTO:+0200
TZNAME:CEST
DTSTART:19700329T020000
RRULE:FREQ=YEARLY;BYMONTH=3;BYDAY=-1SU
END:DAYLIGHT
BEGIN:STANDARD
TZOFFSETFROM:+0200
TZOFFSETTO:+0100
TZNAME:CET
DTSTART:19701025T030000
RRULE:FREQ=YEARLY;BYMONTH=10;BYDAY=-1SU
END:STANDARD
END:VTIMEZONE
BEGIN:VEVENT
UID:8a9a0063b427c2fdee7247f4eb0275eaaac53938@psk-oberschwaben.de
DTSTAMP:20260420T021107Z
DTSTART;TZID=Europe/Berlin:20260523T080000
DTEND;TZID=Europe/Berlin:20260525T180000
SUMMARY:📣 🐴 PSKO-Meisterschaften Dressur: 2026 Dressur-MS mit LK 2+3 beim RFV Zollenreute / Aulendorf! 🏆
DESCRIPTION:🎉 Einladung zur Dressur-Meisterschaft des PSKO 🎉\n\nLiebe Reitsportfreunde\,\nes ist wieder soweit – die PSKO Dressur-Meisterschaft steht vor der Tür!\nAm 23.\, 24. und 25. Mai 2026 verwandelt sich der RFV Zollenreute/Aulendorf in das Zentrum des Dressursports.\n\nWas erwartet euch?\n✨ Dressurprüfungen bis Klasse S\n✨ PSKO Meisterschaft – LK 2 + 3 Dressur\n✨ Drei Tage voller Eleganz\, Präzision und Leidenschaft für den Reitsport!\n\n📍 Ort: RFV Zollenreute\n📅 Datum: 23.05.2026 - 25.05.2026\n\nKommt vorbei\, feuert eure Favoriten an und genießt ein Wochenende voller sportlicher Highlights und guter Stimmung!\nFür das leibliche Wohl ist selbstverständlich gesorgt.\n\nWir freuen uns auf euch!\nEuer PSKO-Team\n\n\n \nPDF: https://psk-oberschwaben.de/site/assets/files/2540/2026_01_24_flyer_psko_meisterschaften_2026_sparte_dressur.pdf\nPDF: https://psk-oberschwaben.de/site/assets/files/2540/ausschreibung_psk-meisterschaft_dressur_2026-1.pdf
LOCATION:RFV Zollenreute\, Spitalweg 38\, D - 88326 Aulendorf
ATTACH:https://psk-oberschwaben.de/site/assets/files/2540/2026_01_24_flyer_psko_meisterschaften_2026_sparte_dressur.pdf
ATTACH:https://psk-oberschwaben.de/site/assets/files/2540/ausschreibung_psk-meisterschaft_dressur_2026-1.pdf
END:VEVENT
END:VCALENDAR
