BEGIN:VCALENDAR
VERSION:2.0
PRODID:-//PSK Oberschwaben//ICS Export//DE
CALSCALE:GREGORIAN
BEGIN:VTIMEZONE
TZID:Europe/Berlin
X-LIC-LOCATION:Europe/Berlin
BEGIN:DAYLIGHT
TZOFFSETFROM:+0100
TZOFFSETTO:+0200
TZNAME:CEST
DTSTART:19700329T020000
RRULE:FREQ=YEARLY;BYMONTH=3;BYDAY=-1SU
END:DAYLIGHT
BEGIN:STANDARD
TZOFFSETFROM:+0200
TZOFFSETTO:+0100
TZNAME:CET
DTSTART:19701025T030000
RRULE:FREQ=YEARLY;BYMONTH=10;BYDAY=-1SU
END:STANDARD
END:VTIMEZONE
BEGIN:VEVENT
UID:985952fcbf5a045359ccd1d3ce2e0c9ccd4839af@psk-oberschwaben.de
DTSTAMP:20260422T082932Z
DTSTART;TZID=Europe/Berlin:20260425T080000
DTEND;TZID=Europe/Berlin:20260425T180000
SUMMARY:Einladung zum Voltigier‑Tag 2026: 1. Wertung zur Kreismeisterschaft Voltigieren – PSK Biberach 🤸‍♀️🐴
DESCRIPTION:🤸‍♀️🐴 Herzliche Einladung zum Voltigier‑Tag 2026\n\n1. Wertung zur Kreismeisterschaft Voltigieren – PSK Biberach\n\nAm Samstag\, den 25. April 2026\, wird Biberach zum Treffpunkt für alle Voltigierbegeisterten!\nDie Reitervereinigung Biberach lädt herzlich ein zu einer breitensportlichen Voltigier‑Veranstaltung mit der ersten Wertung zur Kreismeisterschaft Voltigieren des PSK Biberach.\n\n\n🌟 Voltigiersport live erleben\n\nFreut euch auf einen sportlichen Tag voller Dynamik\, Teamgeist\, Eleganz und beeindruckender Leistungen auf dem Pferd – vom Nachwuchs bis zu erfahrenen Voltigierer:innen.\n\n👨‍👩‍👧‍👦 Zuschauer\, Familien und Freunde sind herzlich willkommen!\n\n\n📅 Die wichtigsten Eckdaten auf einen Blick\n\n📅 Datum: Samstag\, 25. April 2026\n📍 Ort: Reitervereinigung Biberach\n📌 Adresse: St.-Georgs‑Weg 10\, 88400 Biberach\n🎯 Veranstaltung: Breitensport Voltigieren (WBO)\n🏅 1. Wertung Kreismeisterschaft Voltigieren – PSK Biberach\n\n\n🏆 Wettbewerbe\n\n✅ Gruppen‑Voltigieren (Schritt\, Trab\, Galopp)\n✅ Doppel\n✅ Einzel (verschiedene Leistungsklassen)\n✅ Mini‑Einzel in der Gruppe\n✅ Pflicht‑ und Kürwettbewerbe\n\n➡️ Teilnahmeberechtigt sind Vereine des PSK Biberach\,\n➡️ sowie geladene Gäste aus dem PSK Oberschwaben.\n\n\n📝 Nennung & Organisation\n\n📌 Nennungsschluss: 30. März 2026\n\n📧 Nennung an:\nJohanna Kohn\n📩 j.kohn@online.de\n\n⚠️ Wichtig: Die Nennung ist erst mit Zahlungseingang gültig!\n\n💳 Startgeld bitte überweisen an:\nReitervereinigung Biberach\nIBAN: DE08 6545 0070 0007 0418 80\nVerwendungszweck: Volti Nennung + Name des Vereins\n\n\n🎶 Weitere Hinweise\n\n\n	Musik bitte vorab per E‑Mail einreichen oder am Turniertag auf USB‑Stick mitbringen\n	Equidenpass mit Impfstatus erforderlich\n	Hunde bitte rücksichtsvoll und angeleint führen\n	📸 Während der Veranstaltung werden Fotos & Videos gemacht\n\n\n\n🚗 Anfahrt – Navi‑Adresse\n\nReitervereinigung Biberach\n📍 St.-Georgs‑Weg 10\n📍 88400 Biberach an der Riß\n\n👉 Adresse einfach ins Navi oder Google Maps eingeben.\n🅿️ Parkmöglichkeiten sind vor Ort vorhanden.\n\n\n💚 Kommt vorbei – wir freuen uns auf euch!\n\nErlebt Voltigiersport mit Herz\, Teamgeist und Fairness in einem tollen sportlichen Rahmen.\n\n🤸‍♀️🐴 Reitervereinigung Biberach\nVoltigieren. Gemeinschaft. Begeisterung.\n\n\n \nPDF: https://psk-oberschwaben.de/site/assets/files/2537/2026-04-25_voltigieren_biberach_ausschreibung.pdf
LOCATION:Reitervereinigung Biberach\, St.-Georgs‑Weg 10\, 88400 Biberach an der Riß
ATTACH:https://psk-oberschwaben.de/site/assets/files/2537/2026-04-25_voltigieren_biberach_ausschreibung.pdf
END:VEVENT
END:VCALENDAR
