BEGIN:VCALENDAR
VERSION:2.0
PRODID:-//PSK Oberschwaben//ICS Export//DE
CALSCALE:GREGORIAN
BEGIN:VTIMEZONE
TZID:Europe/Berlin
X-LIC-LOCATION:Europe/Berlin
BEGIN:DAYLIGHT
TZOFFSETFROM:+0100
TZOFFSETTO:+0200
TZNAME:CEST
DTSTART:19700329T020000
RRULE:FREQ=YEARLY;BYMONTH=3;BYDAY=-1SU
END:DAYLIGHT
BEGIN:STANDARD
TZOFFSETFROM:+0200
TZOFFSETTO:+0100
TZNAME:CET
DTSTART:19701025T030000
RRULE:FREQ=YEARLY;BYMONTH=10;BYDAY=-1SU
END:STANDARD
END:VTIMEZONE
BEGIN:VEVENT
UID:c48f325cbca7f704f6f767eb86ce20be8df77ff2@psk-oberschwaben.de
DTSTAMP:20260420T021106Z
DTSTART;TZID=Europe/Berlin:20260503T080000
DTEND;TZID=Europe/Berlin:20260503T180000
SUMMARY:Einladung zum Fahrertag (WBO) 2026 der Reitergruppe Neuravensburg e.V. 🐴
DESCRIPTION:🚗🐴 Herzliche Einladung zum Fahrertag 2026\n\nder Reitergruppe Neuravensburg e.V.\n\nAm Sonntag\, den 03. Mai 2026\, dreht sich in Neuravensburg alles um den Fahrsport!\nDie Reitergruppe Neuravensburg e.V. lädt Fahrerinnen\, Fahrer\, Pferdefreunde und Zuschauer herzlich ein zu einer breitensportlichen Veranstaltung mit Vereinsmeisterschaft Fahren – sportlich\, fair und familiär.\n\n\n🏆 Fahrertag 2026 – Breitensport & Vereinsmeisterschaft\n\n📅 Datum: Sonntag\, 03. Mai 2026\n📍 Ort: Fahrplatz Degetsweiler\n⏰ Beginn: vormittags (Zeiteinteilung gemäß Ausschreibung)\n🎠 Ein‑ & Zweispänner\n\n\n🚦 Wettbewerbe nach WBO\n\n✅ Dressur‑Fahr‑WB E‑ & A‑Niveau (Ein‑ & Zweispänner)\n✅ Kegel‑Fahr‑WB mit festen Geländehindernissen (E & A)\n✅ Drive & Run – spannend\, schnell & publikumsstark\n🏅 Vereinsmeisterschaften Fahren (kombinierte Wertung Dressur & Kegelfahren)\n\n➡️ Für Einsteiger:innen ebenso wie für ambitionierte Fahrer:innen\n➡️ Zuschauer herzlich willkommen!\n\n\n🍰🌭 Für das leibliche Wohl ist gesorgt\n\nFür Fahrer\, Beifahrer\, Helfer und Gäste ist bestens gesorgt – ein Besuch lohnt sich auch abseits des Fahrplatzes!\n\n🐶 Hunde bitte auf dem gesamten Gelände an der Leine führen.\n\n📸 Hinweis: Während der Veranstaltung werden Foto‑ und Filmaufnahmen gemacht.\n\n\n📝 Nennung & wichtige Infos\n\n📌 Nennschluss: 19. April 2026\n\n📧 Nennung per E‑Mail an:\nrg-neuravensburg@web.de\n\n📄 WBO‑Nennungsformular:\n👉https://www.pferd-aktuell.de/shop/downloadable/download/sample/sample_id/86/\n\n💳 Startgebühr:\nBitte bis spätestens Nennungsschluss überweisen an:\nRG Neuravensburg\nIBAN: DE65 6509 1040 0180 2350 01\nVerwendungszweck: Fahrertag 2026 + Name Teilnehmer\n\n\n🚗 Anfahrt – Navi‑Adresse\n\nFahrplatz Degetsweiler\n📍 Reitstall Lanz\n📍 Degetsweiler 4\n📍 88239 Wangen im Allgäu\n\n➡️ Hinweis: Abzweigung Richtung Dabetsweiler beachten.\n🅿️ Parkplätze sind ausgewiesen – bitte den Anweisungen des Parkplatzdienstes folgen.\n\n\n💚 Wir freuen uns auf euch!\n\nFreut euch auf einen abwechslungsreichen Fahrertag 2026\, fairen Sport\, tolle Gespanne und eine gemütliche Turnieratmosphäre in Neuravensburg.\n\n🚗🐴 Reitergruppe Neuravensburg e.V.\nFahrsport. Gemeinschaft. Begeisterung.\n\n\n \nPDF: https://psk-oberschwaben.de/site/assets/files/2534/ausschreibung-fahrertag-rg_nrv_03_05_2026.pdf
LOCATION:Fahrplatz Degetsweiler\, Reitstall Lanz\, Degetsweiler 4\, 88239 Wangen im Allgäu
ATTACH:https://psk-oberschwaben.de/site/assets/files/2534/ausschreibung-fahrertag-rg_nrv_03_05_2026.pdf
END:VEVENT
END:VCALENDAR
