BEGIN:VCALENDAR
VERSION:2.0
PRODID:-//PSK Oberschwaben//ICS Export//DE
CALSCALE:GREGORIAN
BEGIN:VTIMEZONE
TZID:Europe/Berlin
X-LIC-LOCATION:Europe/Berlin
BEGIN:DAYLIGHT
TZOFFSETFROM:+0100
TZOFFSETTO:+0200
TZNAME:CEST
DTSTART:19700329T020000
RRULE:FREQ=YEARLY;BYMONTH=3;BYDAY=-1SU
END:DAYLIGHT
BEGIN:STANDARD
TZOFFSETFROM:+0200
TZOFFSETTO:+0100
TZNAME:CET
DTSTART:19701025T030000
RRULE:FREQ=YEARLY;BYMONTH=10;BYDAY=-1SU
END:STANDARD
END:VTIMEZONE
BEGIN:VEVENT
UID:534aec05a998f7a15e85eaf534ce051feb827657@psk-oberschwaben.de
DTSTAMP:20260422T082921Z
DTSTART;TZID=Europe/Berlin:20260509T080000
DTEND;TZID=Europe/Berlin:20260509T180000
SUMMARY:Einladung zum Reitertag 2026 der Reitergruppe Neuravensburg e.V. 🐎
DESCRIPTION:🐎🎉 Herzliche Einladung zum Reitertag 2026\n\nder Reitergruppe Neuravensburg e.V.\n\nAm Samstag\, den 09. Mai 2026\, heißt es wieder:\nTurnierluft schnuppern\, fairen Sport erleben & gemeinsam einen tollen Pferdetag genießen!\n\nDie Reitergruppe Neuravensburg e.V. lädt herzlich ein zum\n\n🌟 Reitertag 2026 mit Vereinsmeisterschaft 🌟\n\n📅 Datum: Samstag\, 09. Mai 2026\n📍 Ort: Reitanlage Mooshof\n⏰ Beginn: vormittags (Zeiteinteilung siehe Ausschreibung)\n\nFreut euch auf breitensportliche Wettbewerbe\, spannende Prüfungen\, engagierte Reiter:innen und eine familiäre Turnieratmosphäre.\n\n\n🏆 Wettbewerbe (WBO)\n\n✅ Führzügel‑Wettbewerb\n✅ Reiterwettbewerb Schritt–Trab–Galopp\n✅ Dressur‑ & Dressurreiter‑Wettbewerbe\n✅ Spring‑ & Stilspring‑Wettbewerbe\n✅ Jump & Run\n🏅 Vereinsmeisterschaften in ausgewählten Prüfungen\n\n➡️ Für Kinder\, Jugendliche & Erwachsene\n➡️ Für Einsteiger genauso wie ambitionierte Reiter:innen\n\n\n🍰🌭 Für das leibliche Wohl ist gesorgt\n\n\n	herzhaft & süß\n	Getränke\, Kaffee & Kuchen\n	gemütliche Turnieratmosphäre für Gäste\, Helfer & Teilnehmer\n\n\n🐶 Hunde willkommen – bitte auf dem gesamten Gelände angeleint.\n\n\n📝 Nennung & wichtige Infos\n\n📌 Nennschluss: 19. April 2026\n\n🖥️ Nennung:\n\n\n	über NeOn\n	oder\n	per E‑Mail mit WBO‑Nennformular an\n	📧 rg-neuravensburg@web.de\n\n\n💳 Startgeld bitte vorab überweisen (Details siehe Ausschreibung)\n\n📄 Ausschreibung & alle Details:\n→ beim Veranstalter / über NeOn\n\n\n🚗 Anfahrt – Navi‑Adresse\n\nReitanlage Mooshof\n📍 Untermooweiler 12\n📍 88239 Wangen im Allgäu\n\n👉 Diese Adresse einfach ins Navi oder Google Maps eingeben.\n🅿️ Parkplätze sind ausgewiesen – bitte den Anweisungen des Parkplatzdienstes folgen.\n\n\n💚 Wir freuen uns auf euch!\n\nOb als Starter:in\, Begleitung oder Zuschauer:in –\nder Reitertag 2026 der RG Neuravensburg bietet beste Bedingungen für Sport\, Gemeinschaft und einen schönen Tag rund ums Pferd.\n\n🐎✨ Reitergruppe Neuravensburg e.V.\nSportlich. Fair. Familiär.\n\n\n \nPDF: https://psk-oberschwaben.de/site/assets/files/2532/ausschreibung-reitertag_rg_nrv_09_03_2026.pdf
LOCATION:Reitanlage Mooshof Untermooweiler 12 88239 Wangen im Allgäu
ATTACH:https://psk-oberschwaben.de/site/assets/files/2532/ausschreibung-reitertag_rg_nrv_09_03_2026.pdf
END:VEVENT
END:VCALENDAR
