BEGIN:VCALENDAR
VERSION:2.0
PRODID:-//PSK Oberschwaben//ICS Export//DE
CALSCALE:GREGORIAN
BEGIN:VTIMEZONE
TZID:Europe/Berlin
X-LIC-LOCATION:Europe/Berlin
BEGIN:DAYLIGHT
TZOFFSETFROM:+0100
TZOFFSETTO:+0200
TZNAME:CEST
DTSTART:19700329T020000
RRULE:FREQ=YEARLY;BYMONTH=3;BYDAY=-1SU
END:DAYLIGHT
BEGIN:STANDARD
TZOFFSETFROM:+0200
TZOFFSETTO:+0100
TZNAME:CET
DTSTART:19701025T030000
RRULE:FREQ=YEARLY;BYMONTH=10;BYDAY=-1SU
END:STANDARD
END:VTIMEZONE
BEGIN:VEVENT
UID:2887c1df80ea20d8ebbdb1b910f93cb78b8a5f92@psk-oberschwaben.de
DTSTAMP:20260420T021108Z
DTSTART;TZID=Europe/Berlin:20260503T080000
DTEND;TZID=Europe/Berlin:20260503T170000
SUMMARY:🐎🌿RFV Waldburg mit Einladung zum Reitertag 2026 - Dressur & Springen
DESCRIPTION:🐎🌿 Einladung zum Reitertag 2026\n\nbeim Reit‑ und Fahrverein Waldburg e.V.\n\nDer RFV Waldburg lädt herzlich ein zum\n\n🎉 Reitertag 2026 🎉\n\n📅 Sonntag\, 03. Mai 2026\n⏰ 8:00 – 17:00 Uhr\n📍 Reitanlage Blaue Seen\, Waldburg\n\nFreut euch auf einen sportlichen und geselligen Tag rund um den Pferdesport – für Reiter:innen\, Familien\, Freunde und alle Pferdebegeisterten!\n\n\n🏆 Wettbewerbe nach WBO\n\n🕘 Vormittag:\n\n\n	Dressur‑Wettbewerb RA 1/1\n	Dressur‑Wettbewerb DW 1\n	Reiter‑Wettbewerb Schritt–Trab–Galopp\n	Führzügel‑Wettbewerb mit Geschicklichkeitsaufgaben\n\n\n🕒 Nachmittag:\n\n\n	Stilspring‑Wettbewerb 60 cm\n	Stilspring‑Wettbewerb 80 cm\n\n\n🐴 Große & kleine Pferdefreunde sind herzlich willkommen!\n\n🐕 Freundliche Hunde dürfen gerne mitkommen – bitte angeleint auf dem gesamten Gelände.\n\n🌦️ Die Veranstaltung findet bei jedem Wetter statt.\nFür Unterstellmöglichkeiten und Wetterschutz ist gesorgt.\n\n\n🍰🍴 Für das leibliche Wohl\n\n\n	🌭 Grillteller\n	☕ Kaffee & Kuchen\n\n\n\n📌 Ausschreibung & Infos\n\nAlle weiteren Informationen\, Ausschreibung und Updates findet ihr auf der Homepage des Vereins:\n👉 www.rfv-waldburg.jimdoweb.com\n\n\n🚗 Anfahrt – Navi‑Adresse\n\nReitanlage Blaue Seen (RFV Waldburg)\n📍 Kesenweiler (Blauensee)\n📍 88289 Waldburg\n\n👉 Diese Adresse einfach ins Navi eingeben.\nParkflächen sind vor Ort ausgeschildert – bitte den Anweisungen folgen. \n\n\n💚 Wir freuen uns auf euch!\n\nKommt vorbei\, feuert an\, genießt tollen Reitsport und einen schönen Tag in familiärer Atmosphäre.\n\nEuer Reit‑ und Fahrverein Waldburg e.V. 🐎✨
LOCATION:RFV Waldburg\, Reitanlage Blauensee\, Kesenweiler (Blauensee)\, D - 88289 Waldburg
END:VEVENT
END:VCALENDAR
