BEGIN:VCALENDAR
VERSION:2.0
PRODID:-//PSK Oberschwaben//ICS Export//DE
CALSCALE:GREGORIAN
BEGIN:VTIMEZONE
TZID:Europe/Berlin
X-LIC-LOCATION:Europe/Berlin
BEGIN:DAYLIGHT
TZOFFSETFROM:+0100
TZOFFSETTO:+0200
TZNAME:CEST
DTSTART:19700329T020000
RRULE:FREQ=YEARLY;BYMONTH=3;BYDAY=-1SU
END:DAYLIGHT
BEGIN:STANDARD
TZOFFSETFROM:+0200
TZOFFSETTO:+0100
TZNAME:CET
DTSTART:19701025T030000
RRULE:FREQ=YEARLY;BYMONTH=10;BYDAY=-1SU
END:STANDARD
END:VTIMEZONE
BEGIN:VEVENT
UID:b630615276b0a1a4feb2fe373cad80218e8164e5@psk-oberschwaben.de
DTSTAMP:20260420T020933Z
DTSTART;TZID=Europe/Berlin:20260817T080000
DTEND;TZID=Europe/Berlin:20260817T180000
SUMMARY:FEI World Championships Aachen 2026 -  Highlight 2: Schauwettbewerb „Unsere Reitschule bei den FEI WCH 2026“ 🐎✨
DESCRIPTION:🐎✨ Einladung: Reitsportvereine on Tour – zu den FEI World Championships Aachen 2026! ✨🐎\n\nLiebe Reitschüler:innen\, liebe Eltern\, liebe Vereinsmitglieder\,\n\nAachen ruft – und wir haben die Chance\, dabei zu sein!\nIm August 2026 wird Aachen Gastgeber des größten Pferdesport‑Events des Jahres: der FEI World Championships Aachen 2026.\n\nAls Partnerverein des Projekts „100 Schulpferde plus“ sind wir herzlich eingeladen\, unsere Reitschul‑ und Nachwuchsarbeit auf internationaler Bühne zu präsentieren – und möchten diese einmalige Gelegenheit gern gemeinsam mit Euch nutzen!\n\n\n🌟 Highlight 1: „100 Schulpferde plus Challenge“\n\n📅 Sonntag\, 16. August 2026\n📍 Hauptstadion Aachen\n\nDer Finaltag der Vielseitigkeit & des Voltigierens wird erstmals zum „Tag der Reitschulen“!\nIm Mittelpunkt steht die „100 Schulpferde plus Challenge“ – eine Bühne für unsere Schulpferde und engagierten Reitschüler:innen.\n\n👉 So könnt Ihr teilnehmen:\n\n\n	\n	Bewerbung mit einem Schulpferd oder ‑pony + einer/m Reitschüler:in\n	🔗 Bewerbungsformular ausfüllen:\n	👉 „Bewerbungsformular – 100 Schulpferde plus Challenge“\n	\n	\n	Upload eines Videos (Pferd + Reitschüler:in)\n	🔗 über https://wetransfer.com/\n	\n\n\n🏆 Auswahlverfahren:\n\n\n	Jury wählt 25 Vereine\n	Online‑Voting bestimmt die 16 beliebtesten Teams\n	Live‑Challenge am 16.08.2026 in Aachen\n	🎉 Siegerehrung im Hauptstadion +\n	🎁 Live‑Verlosung einer Schulpferde‑Förderung über 5.000 €\n\n\n👉 Eine großartige Chance\, unseren Verein und unsere Nachwuchsarbeit sichtbar zu machen!\n\n\n🎟️ Exklusives Ticketangebot für RFV‑Mitglieder\n\nFür alle\, die live dabei sein möchten:\n\n🎫 25 % Rabatt auf Tickets für die Teilprüfung Springen Vielseitigkeit\n🎁 Rabattcode: 100SP25\n🔗 Ticketshop:\n👉 https://tickets.aachen2026.com/shop?shopid=112&wes=4c153e1c112&query_pos=0&query_rows=1000&set_query_pos=0&houseid=yXyXyVDllcg==zXzXz&performanceid=yXyXyU2RXcElBPT0=zXzXz&state=3&nextstate=4\n\n⚠️ Der Code ist nur begrenzt verfügbar – schnell sein lohnt sich!\n\n\n🎁 Extra‑Chance: 5.000 € Förderung fürs Schulpferd\n\nReitschulen / Vereine\, die mit mindestens 10 Personen vor Ort sind\, können sich am Stand von Pferdesport Deutschland registrieren und erhalten die exklusive Chance auf die Live‑Verlosung eines Zuschusses über 5.000 € für den Kauf eines Schulpferdes.\n\n\n🎭 Highlight 2: Schauwettbewerb „Unsere Reitschule bei den FEI WCH 2026“\n\n📅 Montag\, 17. August 2026\n📍 Soerser Montag – Aachen\n\nUnter dem Motto\n„Unsere Reitschule bei den FEI World Championships Aachen 2026“\nkönnt Ihr Eure kreative Vereinsarbeit im offiziellen Schauprogramm präsentieren.\n\n👉 So macht Ihr mit:\n\n\n	\n	Bewerbung mit kreativem Schaubild\n	🔗 Bewerbungsformular ausfüllen:\n	👉 „Unsere Reitschule bei den FEI World Championships Aachen“\n	\n	\n	Upload des Schaubild‑Videos\n	🔗 über https://wetransfer.com/\n	\n\n\n🏅 Eine Jury wählt drei Reitschulen\, die ihr Schaubild live vor internationalem Publikum zeigen dürfen.\n\n\n💚 Unsere Einladung an Euch\n\nLasst uns gemeinsam zeigen\, wie stark\, engagiert und unverzichtbar unsere Reitschul‑ und Vereinsarbeit ist.\nOb aktiv auf der Bühne oder als lautstarke Fans auf den Rängen – dieses Erlebnis gehört uns allen!\n\n\n\nLink: Bewerbungsformular 100 Schulpferde (https://forms.office.com/pages/responsepage.aspx?id=1qwPPjMuVkammV_-3zuMz7NfmQlRG6xChCQ1JK8hD9VUMjVOUjFKTjREWkQxVkg0TzhSUk9LOTZCRC4u&amp\;route=shorturl)\nPDF: https://psk-oberschwaben.de/site/assets/files/2525/ausschreibung_100_schulpferde_plus_challenge.pdf\nPDF: https://psk-oberschwaben.de/site/assets/files/2525/ausschreibung_schau-wb.pdf
LOCATION:Hauptstadion CHIO Aachen / Soers\, Albert‑Servais‑Allee 50\, 52070 Aachen Deutschland
ATTACH:https://forms.office.com/pages/responsepage.aspx?id=1qwPPjMuVkammV_-3zuMz7NfmQlRG6xChCQ1JK8hD9VUMjVOUjFKTjREWkQxVkg0TzhSUk9LOTZCRC4u&amp;route=shorturl
ATTACH:https://psk-oberschwaben.de/site/assets/files/2525/ausschreibung_100_schulpferde_plus_challenge.pdf
ATTACH:https://psk-oberschwaben.de/site/assets/files/2525/ausschreibung_schau-wb.pdf
END:VEVENT
END:VCALENDAR
