BEGIN:VCALENDAR
VERSION:2.0
PRODID:-//PSK Oberschwaben//ICS Export//DE
CALSCALE:GREGORIAN
BEGIN:VTIMEZONE
TZID:Europe/Berlin
X-LIC-LOCATION:Europe/Berlin
BEGIN:DAYLIGHT
TZOFFSETFROM:+0100
TZOFFSETTO:+0200
TZNAME:CEST
DTSTART:19700329T020000
RRULE:FREQ=YEARLY;BYMONTH=3;BYDAY=-1SU
END:DAYLIGHT
BEGIN:STANDARD
TZOFFSETFROM:+0200
TZOFFSETTO:+0100
TZNAME:CET
DTSTART:19701025T030000
RRULE:FREQ=YEARLY;BYMONTH=10;BYDAY=-1SU
END:STANDARD
END:VTIMEZONE
BEGIN:VEVENT
UID:d4509a237ffd19fda8c12cef6eddba6f708cdc4f@psk-oberschwaben.de
DTSTAMP:20260420T021117Z
DTSTART;TZID=Europe/Berlin:20260503T080000
DTEND;TZID=Europe/Berlin:20260503T180000
SUMMARY:✨ Einladung zum Reitertag 2026 der Reitergruppe Neuravensburg e.V.
DESCRIPTION:🐴✨ Einladung zum Reitertag 2026\n\nder Reitergruppe Neuravensburg e.V.\n\nBreitensport & Vereinsmeisterschaft Reiten\n\n\n📅 Samstag\, 09. Mai 2026\n📍 Reitanlage Mooshof\nUntermooweiler 12 · 88239 Wangen\n\n\n🎉 Ein Tag voller Pferdesport\, Gemeinschaft & guter Stimmung!\n\nDie Reitergruppe Neuravensburg lädt herzlich ein zum Reitertag 2026 – einem sportlichen Highlight für Groß und Klein\, Nachwuchs und Routiniers\, Vereinsmitglieder und Gäste!\n\nFreut euch auf spannende Wettbewerbe\, faire sportliche Leistungen und eine tolle Atmosphäre auf einer modernen Reitanlage.\n\n\n🏆 Wettbewerbe im Überblick\n\n✅ Führzügel-WB\n✅ Reiterwettbewerb Schritt–Trab–Galopp\n✅ Dressur‑ & Dressurreiter‑WB\n✅ Spring‑ & Stilspring‑WB bis 100 cm\n✅ Jump & Run\n🏅 Vereinsmeisterschaften in ausgewählten Prüfungen\n\n➡️ Breitensportlich | Fair | Spaßorientiert\n➡️ Für Kinder\, Jugendliche & Erwachsene\n\n\n📝 Wichtige Daten & Infos\n\n\n	\n	Nennschluss: 📌 19. April 2026\n	\n	\n	Nennung:\n	👉 über NeOn oder\n	👉 per Mail mit Nennungsformular an\n	📧 rg-neuravensburg@web.de\n	\n	\n	Startgeld: ab 12\,00 €\n	\n	\n	Startberechtigung:\n	Mitglieder aus den Landkreisen Lindau\, Ravensburg\, Vorarlberg sowie Nichtvereinsmitglieder (mit Versicherungsnachweis)\n	\n\n\n\n🏟️ Plätze & Bedingungen\n\n\n	Turnierplatz: 30 × 40 m Ebbe‑Flut\n	Abreiteplatz:\n	– 25 × 40 m überdacht (Ebbe‑Flut)\n	– 30 × 30 m Sandplatz\n\n\n🛠️ Tierarzt vor Ort · Hufschmied auf Abruf\n🐶 Hunde bitte angeleint\n\n\n📍 Anfahrt – ganz einfach per Navi\n\n🔎 Zieladresse fürs Navi:\n\nReitanlage Mooshof\nUntermooweiler 12\n88239 Wangen im Allgäu\n\n🚗 Aus Richtung Ravensburg / Wangen gut ausgeschildert\n🅿️ Parkplätze sind vorhanden – bitte den Anweisungen des Parkplatzdienstes folgen\n\n\n📸 Hinweis\n\nWährend der Veranstaltung werden Fotos und Videos aufgenommen.\nMit dem Betreten des Geländes erklärt ihr euch mit der Veröffentlichung einverstanden (DSGVO‑Hinweis an der Meldestelle).\n\n\n💚 Wir freuen uns auf euch!\n\nOb als Reiterin\, Begleitung oder Zuschauerin –\nkommt vorbei\, feuert an und genießt einen tollen Reitsport‑Tag!\n\n🐴✨ Reitergruppe Neuravensburg e.V.\nSportlich. Fair. Gemeinschaftlich.\n\n\n \nPDF: https://psk-oberschwaben.de/site/assets/files/2513/ausschreibung-reitertag_rg_nrv_09_03_2026.pdf
LOCATION:Reitanlage Mooshof Untermooweiler 12 88239 Wangen im Allgäu
ATTACH:https://psk-oberschwaben.de/site/assets/files/2513/ausschreibung-reitertag_rg_nrv_09_03_2026.pdf
END:VEVENT
END:VCALENDAR
