BEGIN:VCALENDAR
VERSION:2.0
PRODID:-//PSK Oberschwaben//ICS Export//DE
CALSCALE:GREGORIAN
BEGIN:VTIMEZONE
TZID:Europe/Berlin
X-LIC-LOCATION:Europe/Berlin
BEGIN:DAYLIGHT
TZOFFSETFROM:+0100
TZOFFSETTO:+0200
TZNAME:CEST
DTSTART:19700329T020000
RRULE:FREQ=YEARLY;BYMONTH=3;BYDAY=-1SU
END:DAYLIGHT
BEGIN:STANDARD
TZOFFSETFROM:+0200
TZOFFSETTO:+0100
TZNAME:CET
DTSTART:19701025T030000
RRULE:FREQ=YEARLY;BYMONTH=10;BYDAY=-1SU
END:STANDARD
END:VTIMEZONE
BEGIN:VEVENT
UID:e88144eec43b7c6f5df6f7eaa0b191f8c7e8543b@psk-oberschwaben.de
DTSTAMP:20260420T021107Z
DTSTART;TZID=Europe/Berlin:20260503T080000
DTEND;TZID=Europe/Berlin:20260503T180000
SUMMARY:RG Zöbingen mit Einladung zum Voltigierturnier Zöbingen am 3. Mai 2026 ✨🐴
DESCRIPTION:🐴✨ Einladung zum Voltigierturnier Zöbingen 2026 ✨🐴\n\nSport\, Spannung und mitreißende Akrobatik auf dem Pferd\n\nAm Sonntag\, 3. Mai 2026\, heißt es im Ostalbkreis wieder: Bühne frei für das Voltigieren!\nDie RG Zöbingen lädt herzlich zum großen Voltigierturnier mit Kreismeisterschaft (PSK Ostalb) ein – ein Highlight für alle Pferdesportfans\, Familien und Neugierige.\n\nFreuen Sie sich auf einen ganzen Tag voller Eleganz\, Kraft\, Teamgeist und Emotionen\, wenn Voltigiergruppen\, Einzel- und Doppelvoltigierer von den Nachwuchsklassen bis zur Klasse S ihr Können zeigen. Neben hochklassigem Turniersport sorgen auch abwechslungsreiche Wettbewerbe\, kreative Kürprogramme und junge Talente für beste Unterhaltung.\n\n💫 Das erwartet Sie:\n\n\n	Voltigieren von Einsteiger- bis Spitzenklasse (bis Kl. S)\n	Kreismeisterschaft Voltigieren 2026 – PSK Ostalb\n	Gruppen-\, Einzel- und Doppelprüfungen\n	Nachwuchs-\, WBO- und Fun-Wettbewerbe (z. B. Holzpferd‑Fun‑WB)\n	Spannende Küren\, Musik\, Emotionen und echtes Teamwork\n	Bewirtung für das leibliche Wohl\n\n\n👨‍👩‍👧‍👦 Ein Event für die ganze Familie – der Eintritt ist frei\, Zuschauen ausdrücklich erwünscht!\n\n\n📍 Veranstaltungsort & Anfahrt\n\n📌 Veranstaltungsort:\nReitanlage Zöbingen\nSchneidheimerstraße 13\n73485 Unterschneidheim‑Zöbingen\n\n🚗 Anfahrt (Navi):\n👉 Bitte ins Navigationsgerät eingeben:\n„Schneidheimerstraße 13\, 73485 Unterschneidheim“\n\nParkmöglichkeiten sind in der Nähe der Anlage ausgeschildert.\n\n\n🗓 Veranstaltungsinfos auf einen Blick\n\n\n	Datum: Sonntag\, 03.05.2026\n	Beginn: vormittags (genaue Zeiteinteilung über FN‑NeOn)\n	Veranstalter: RG Zöbingen\n	Turnierleitung: Milena Clauß & Stephan Kurz\n\n\n\n🎉 Ob Pferdesportfan\, Vereinsmitglied\, Familie oder einfach neugierig:\nKommen Sie vorbei\, feuern Sie die Sportlerinnen und Sportler an und erleben Sie Voltigieren hautnah – wir freuen uns auf Ihren Besuch!\n\n\n \nPDF: https://psk-oberschwaben.de/site/assets/files/2510/ausschreibung_zobingen_voltigieren.pdf
LOCATION:Reitanlage Zöbingen\, Schneidheimerstraße 13\, 73485 Unterschneidheim‑Zöbingen
ATTACH:https://psk-oberschwaben.de/site/assets/files/2510/ausschreibung_zobingen_voltigieren.pdf
END:VEVENT
END:VCALENDAR
