BEGIN:VCALENDAR
VERSION:2.0
PRODID:-//PSK Oberschwaben//ICS Export//DE
CALSCALE:GREGORIAN
BEGIN:VTIMEZONE
TZID:Europe/Berlin
X-LIC-LOCATION:Europe/Berlin
BEGIN:DAYLIGHT
TZOFFSETFROM:+0100
TZOFFSETTO:+0200
TZNAME:CEST
DTSTART:19700329T020000
RRULE:FREQ=YEARLY;BYMONTH=3;BYDAY=-1SU
END:DAYLIGHT
BEGIN:STANDARD
TZOFFSETFROM:+0200
TZOFFSETTO:+0100
TZNAME:CET
DTSTART:19701025T030000
RRULE:FREQ=YEARLY;BYMONTH=10;BYDAY=-1SU
END:STANDARD
END:VTIMEZONE
BEGIN:VEVENT
UID:4060defc3929cc9a2aee9089a0fd2f991085b90e@psk-oberschwaben.de
DTSTAMP:20260420T021118Z
DTSTART;VALUE=DATE:20260919
DTEND;VALUE=DATE:20260920
SUMMARY:🌟 PSKO-Fahrlehrgang mit Hans-Joachim Kerber in Wolfegg
DESCRIPTION:🌟 Einladung zum Fahrlehrgang mit Hans-Joachim Kerber\n\nRegionaltrainer \n\n📍 Wo?\nReithalle Wolfegg\nAm Eisweiher 6\, 88364 Wolfegg\n\n🐴 Was erwartet dich?\n\n\n	2 x 30 Minuten Einzelunterricht\n\n\n💰 Kosten:\n40 € pro Einheit  + 5 € Platznutzungsgebühr pro Einheit für externe Teilnehmer\n\n📞 Infos & Anmeldung:\nAnna Grundmann– 015115206217\nPDF: https://psk-oberschwaben.de/site/assets/files/2508/fahrlehrgang_kerber190926.pdf
LOCATION:RFV Wolfegg\, Eisweiher 1\, D - 88364 Wolfegg
ATTACH:https://psk-oberschwaben.de/site/assets/files/2508/fahrlehrgang_kerber190926.pdf
END:VEVENT
END:VCALENDAR
