BEGIN:VCALENDAR
VERSION:2.0
PRODID:-//PSK Oberschwaben//ICS Export//DE
CALSCALE:GREGORIAN
BEGIN:VTIMEZONE
TZID:Europe/Berlin
X-LIC-LOCATION:Europe/Berlin
BEGIN:DAYLIGHT
TZOFFSETFROM:+0100
TZOFFSETTO:+0200
TZNAME:CEST
DTSTART:19700329T020000
RRULE:FREQ=YEARLY;BYMONTH=3;BYDAY=-1SU
END:DAYLIGHT
BEGIN:STANDARD
TZOFFSETFROM:+0200
TZOFFSETTO:+0100
TZNAME:CET
DTSTART:19701025T030000
RRULE:FREQ=YEARLY;BYMONTH=10;BYDAY=-1SU
END:STANDARD
END:VTIMEZONE
BEGIN:VEVENT
UID:ecc06ede279732f620a5cb45dfd66c2e67f9eb2a@psk-oberschwaben.de
DTSTAMP:20260420T020932Z
DTSTART;TZID=Europe/Berlin:20260912T080000
DTEND;TZID=Europe/Berlin:20260913T180000
SUMMARY:🌟 PSKO-Fahrlehrgang-Serie 2026 mit Claudia Gschwind auf der Reitanlage Blauensee (September)
DESCRIPTION:🎉 Einladung zum Fahrlehrgang mit Claudia Gschwind!\n\nDressur & Hindernisfahren mit eigenem Gespann\n\n12. & 13. September 2026 – Reitanlage Blauensee\n\nSchnapp dein Gespann – es wird sportlich!\nTrainiere mit Claudia Gschwind\,\nTrainer B Fahren Leistungssport\, Trägerin des Goldenen Fahrabzeichens und Mitglied im Landeskader.\nEin Wochenende voller Know‑how\, Motivation und Fahrspaß wartet auf dich!\n\n\n🗓 Ablauf\n\nSamstag\, 12. September 2026\n\n\n	2 Einheiten Dressur pro Teilnehmer\n\n\nSonntag\, 13. September 2026\n\n\n	1 Einheit Dressur\n	1 Einheit Kegelfahren\n\n\nDer Lehrgang findet bei jeder Witterung statt.\nDie Anmeldung ist verbindlich – bei Ausfall greift die Warteliste.\n\n\n📍 Ort\n\nReitanlage Blauensee – RFV Waldburg \n\n✅ Navi‑Adresse (für direkte Anfahrt):\n\nReitanlage Blauensee\, 88289 Waldburg\n\nDamit führt dich jede Navigation zuverlässig zur Anlage! 🚗💨\n\n\n💶 Kosten\n\n\n	120 € pro Teilnehmer\n	+ 5 € Anlagennutzung pro Tag für Nichtmitglieder \n\n\n\n👩‍🏫 Anmeldung\n\nClaudia Gschwind\n📞 0170 5170172\n\nBitte beachten:\nWenn keine Teilnehmer auf der Warteliste sind\, muss selbst Ersatz gestellt oder der Lehrgang komplett bezahlt werden.\n\n\n🙏 Dankeschön\n\nEin herzliches Danke für die Bezuschussung durch WPSV und PSKO!\n\n\n \nPDF: https://psk-oberschwaben.de/site/assets/files/2492/2026-09-12-13_rfv_waldburg_fahren_mit_claudi_gschwind.pdf
LOCATION:RFV Waldburg\, Reitanlage Blauensee\, Kesenweiler (Blauensee)\, D - 88289 Waldburg
ATTACH:https://psk-oberschwaben.de/site/assets/files/2492/2026-09-12-13_rfv_waldburg_fahren_mit_claudi_gschwind.pdf
END:VEVENT
END:VCALENDAR
