BEGIN:VCALENDAR
VERSION:2.0
PRODID:-//PSK Oberschwaben//ICS Export//DE
CALSCALE:GREGORIAN
BEGIN:VTIMEZONE
TZID:Europe/Berlin
X-LIC-LOCATION:Europe/Berlin
BEGIN:DAYLIGHT
TZOFFSETFROM:+0100
TZOFFSETTO:+0200
TZNAME:CEST
DTSTART:19700329T020000
RRULE:FREQ=YEARLY;BYMONTH=3;BYDAY=-1SU
END:DAYLIGHT
BEGIN:STANDARD
TZOFFSETFROM:+0200
TZOFFSETTO:+0100
TZNAME:CET
DTSTART:19701025T030000
RRULE:FREQ=YEARLY;BYMONTH=10;BYDAY=-1SU
END:STANDARD
END:VTIMEZONE
BEGIN:VEVENT
UID:3d10b09ea5f766688ccbd685b4b5284ca96ac24c@psk-oberschwaben.de
DTSTAMP:20260422T082933Z
DTSTART;VALUE=DATE:20260508
DTEND;VALUE=DATE:20260511
SUMMARY:🌟 PSKO-Dressur-Springen-Stangenarbeit und Theorie
DESCRIPTION:🌟 Einladung zum Dressur- und Springlehrgang mit Christian Baier\n\n📍 Wo?\n      RV Krumbach & RV Bad Wurzach\n\n🐴 Was erwartet dich?\n      Dressur und Springen\, hier werden wir mit Rhythmus und Losgelassenheit anfangen\, für die Teilnehmer die schon dabei waren wird auf die vorherige Arbeit aufgebaut.\n      Stangenarbeit\, es richtet sich an Reiter die gerade mit Springen anfangen möchten\, Reiter die ein Junges Pferd haben\, sowie für Dressurreiter die Abwechslung suchen.\n      Plätze sind begrenzt und werden in Reihenfolge nach Eingang der Anmeldungen berücksichtigt.\n\n💰 Kosten:\n     160 €\n\n📞 Infos & Anmeldung:\n     Verbindlich bis spätestens 9. April 2026 bei Simone Bauhofer oder Christian Baier\n     (Email: s.m.bauhofer@web.de ) Tel.nr 0160/94606168) oder Christian Baier (Email\, c.baier75@gmail.com)\n\n \nPDF: https://psk-oberschwaben.de/site/assets/files/2480/germany_mai_260508.pdf
LOCATION:RFV Krumbach e.V. (Tettnang)\, Krumbach 48\, 88069 Tettnang
ATTACH:https://psk-oberschwaben.de/site/assets/files/2480/germany_mai_260508.pdf
END:VEVENT
END:VCALENDAR
