BEGIN:VCALENDAR
VERSION:2.0
PRODID:-//PSK Oberschwaben//ICS Export//DE
CALSCALE:GREGORIAN
BEGIN:VTIMEZONE
TZID:Europe/Berlin
X-LIC-LOCATION:Europe/Berlin
BEGIN:DAYLIGHT
TZOFFSETFROM:+0100
TZOFFSETTO:+0200
TZNAME:CEST
DTSTART:19700329T020000
RRULE:FREQ=YEARLY;BYMONTH=3;BYDAY=-1SU
END:DAYLIGHT
BEGIN:STANDARD
TZOFFSETFROM:+0200
TZOFFSETTO:+0100
TZNAME:CET
DTSTART:19701025T030000
RRULE:FREQ=YEARLY;BYMONTH=10;BYDAY=-1SU
END:STANDARD
END:VTIMEZONE
BEGIN:VEVENT
UID:93101eb3fe8e1094a97ed0e916e3887538a4d8f9@psk-oberschwaben.de
DTSTAMP:20260420T021005Z
DTSTART;TZID=Europe/Berlin:20260508T080000
DTEND;TZID=Europe/Berlin:20260510T180000
SUMMARY:✨ Einladung zum Reitlehrgang 8.–10. Mai 2026 mit Christian Baier beim RFV Krumbach & RFV Bad Wurzach!
DESCRIPTION:✨ Einladung zum Reitlehrgang 8.–10. Mai 2026 ✨\n\nLiebe Reiterinnen und Reiter\,\nwir laden euch herzlich zum diesjährigen Frühlings‑Reitlehrgang mit Christian Baier und Simone Bauhofer ein!\nEuch erwartet ein vielseitiges Programm aus Dressur\, Springen\, Stangenarbeit\, Theorieabend und ganz viel Freude am gemeinsamen Lernen.\n\n\n📍 Veranstaltungsorte (fürs Navi)\n\nReit- und Fahrverein Krumbach\n\nAdresse: Krumbach 48\, 88069 Krumbach (Tettnang)\n\nReit- und Fahrverein Bad Wurzach\n\nAdresse: Ravensburger Straße 75\, 88410 Bad Wurzach \n\n\n📅 Termin\n\nFreitag\, 8. Mai – Sonntag\, 10. Mai 2026\n\n\n💰 Kosten\n\n\n	Lehrgangsgebühr: 160 €\n	Anlagengebühr für Fremdreiter: 30 € total\n\n\n\n✅ Inhalte\n\n\n	Dressur & Springen (Aufbau je nach Vorerfahrung)\n	Stangenarbeit – ideal für Einsteiger\, junge Pferde & Abwechslung\n	Theorieabend mit gemütlichem Beisammensein\n	Kleine Gruppen für optimalen Lernerfolg\n\n\n\n🔔 Wichtige Hinweise\n\n\n	Begrenzte Plätze! Vergabe nach Eingangsdatum der Anmeldung\n	Anmeldung verbindlich bis: 9. April 2026 \n\n\n\n📬 Anmeldung\n\nSimone Bauhofer\nE-Mail: s.m.bauhofer@web.de\nTel.: 0160 / 94606168\n\nChristian Baier (Dipl. Reitlehrer)\nE-Mail: c.baier75@gmail.com \n\n\n🐴 Warum dabei sein?\n\n„Reiten ist eine Kunst\, die dazu führen soll\, dass das Pferd Spaß an der Arbeit hat und leichter zu reiten wird.“\nGemeinsam gestalten wir einen pferdegerechten\, ruhigen und lehrreichen Kurs – ideal für Reiter aller Erfahrungsstufen.\n \n\nWir freuen uns sehr auf eure Teilnahme und ein wunderbares Lernwochenende!\nWenn das mit euren Zielen übereinstimmt – meldet euch gern an!\n\n\n \nPDF: https://psk-oberschwaben.de/site/assets/files/2478/2026-05-08-10_rfv_krumbach_u_bad_wurzach_christian_baier_bauhofer_2026.pdf
LOCATION:Reit- und Fahrverein Krumbach e.V.\, Krumbach 48\, 88069 Tettnang
ATTACH:https://psk-oberschwaben.de/site/assets/files/2478/2026-05-08-10_rfv_krumbach_u_bad_wurzach_christian_baier_bauhofer_2026.pdf
END:VEVENT
END:VCALENDAR
