BEGIN:VCALENDAR
VERSION:2.0
PRODID:-//PSK Oberschwaben//ICS Export//DE
CALSCALE:GREGORIAN
BEGIN:VTIMEZONE
TZID:Europe/Berlin
X-LIC-LOCATION:Europe/Berlin
BEGIN:DAYLIGHT
TZOFFSETFROM:+0100
TZOFFSETTO:+0200
TZNAME:CEST
DTSTART:19700329T020000
RRULE:FREQ=YEARLY;BYMONTH=3;BYDAY=-1SU
END:DAYLIGHT
BEGIN:STANDARD
TZOFFSETFROM:+0200
TZOFFSETTO:+0100
TZNAME:CET
DTSTART:19701025T030000
RRULE:FREQ=YEARLY;BYMONTH=10;BYDAY=-1SU
END:STANDARD
END:VTIMEZONE
BEGIN:VEVENT
UID:6e86a5f1385f9734504c588c9737c72c8ca81a58@psk-oberschwaben.de
DTSTAMP:20260420T020942Z
DTSTART;TZID=Europe/Berlin:20260614T080000
DTEND;TZID=Europe/Berlin:20260614T180000
SUMMARY:Einladung zum Voltigiertag in Wolfegg – 14. Juni 2026! 🎉
DESCRIPTION:🎉 Einladung zum Voltigiertag in Wolfegg – 14. Juni 2026! 🎉\n\nLiebe Voltigiererinnen\, Trainerinnen\, Familien und Pferdesportfreunde\,\n\nam Sonntag\, den 14. Juni 2026\, ist es wieder soweit:\nDer RFV Wolfegg e.V. lädt euch herzlich zu einem Tag voller Bewegung\, Teamgeist und Voltigiervielfalt ein! Ob Minis\, Einsteiger\, erfahrene Voltigierer oder Special-Olympics‑Teams – für alle ist etwas dabei!\n \n\n\n📍 Veranstaltungsort\n\nReitanlage Wolfegg\nAm Eisweiher 6\n88364 Wolfegg\n\n🚗 Anfahrt fürs Navi:\n\n➡️ „Am Eisweiher 6\, 88364 Wolfegg“ eingeben – und direkt bis zur Anlage geführt werden.\n\nVor Ort erwartet euch:\n\n\n	eine 20×40‑m‑Halle\,\n	ein Außenplatz mit Naturboden\n\n\n\n📞 Ansprechpartner Turnierleitung\n\n\n	Stefanie Lechner – 0170 1038086\n	Katharina Briegel – 0173 9312693 \n\n\n\n📝 Nennung & Nennschluss\n\nNennschluss: 26.05.2026\nNennungen an:\nChristina Buck\, Bachstr. 51\, 88521 Ertingen\nE-Mail: christinabuck754@web.de \n\n💶 Nenngeld\n\n\n	17 € pro Teilnehmer inkl. bis zu 2 Starts & Mittagessen\n	jeder weitere Start: + 3 €\n	Nenngeld an:\n	IBAN DE45 6505 0110 0048 2240 82 – Verwendungszweck: Voltitag + Vereinsname + Prüfungsnummern\n\n\n\n🎵 Musik-Uploads\n\nBitte per WeTransfer bis 26.05.2026 an:\n📧 christian.hodrius@web.de\n \n\n\n🐶🐴 Wichtige Hinweise\n\n\n	Hunde sind auf dem gesamten Gelände an der Leine zu führen & dürfen nicht in die Halle.\n	Pferde müssen haftpflichtversichert\, geimpft & seuchenfrei sein (Equidenpass bereithalten).\n	Der Veranstalter haftet nicht für Unfälle\, Schäden oder Diebstahl. \n\n\n\n⭐ Programm-Highlights\n\nVoltigierwettbewerbe für:\n\n\n	Minis\n	Schritt‑\, Trab‑ & Galopp‑Gruppen\n	Einzel & Doppel\n	Special Olympics & Paravoltigieren\n	Longieren & Eingewöhnen\n	(Alle Prüfungen laut Ausschreibung.)\n	 \n\n\n\n🎊 Wir freuen uns auf einen großartigen Voltigiertag mit euch!\n\n\n \nPDF: https://psk-oberschwaben.de/site/assets/files/2471/2026-03-15_ausschreibung_wolfegg.pdf
LOCATION:Reithalle Wolfegg\, Am Eisweiher 6\, 88364 Wolfegg
ATTACH:https://psk-oberschwaben.de/site/assets/files/2471/2026-03-15_ausschreibung_wolfegg.pdf
END:VEVENT
END:VCALENDAR
