BEGIN:VCALENDAR
VERSION:2.0
PRODID:-//PSK Oberschwaben//ICS Export//DE
CALSCALE:GREGORIAN
BEGIN:VTIMEZONE
TZID:Europe/Berlin
X-LIC-LOCATION:Europe/Berlin
BEGIN:DAYLIGHT
TZOFFSETFROM:+0100
TZOFFSETTO:+0200
TZNAME:CEST
DTSTART:19700329T020000
RRULE:FREQ=YEARLY;BYMONTH=3;BYDAY=-1SU
END:DAYLIGHT
BEGIN:STANDARD
TZOFFSETFROM:+0200
TZOFFSETTO:+0100
TZNAME:CET
DTSTART:19701025T030000
RRULE:FREQ=YEARLY;BYMONTH=10;BYDAY=-1SU
END:STANDARD
END:VTIMEZONE
BEGIN:VEVENT
UID:fe714f07334c08c8d9bf42b8c2687abb62ee1e8f@psk-oberschwaben.de
DTSTAMP:20260422T082944Z
DTSTART;TZID=Europe/Berlin:20260704T080000
DTEND;TZID=Europe/Berlin:20260705T180000
SUMMARY:Einladung zum Voltigiertag in Herbertingen – 04. & 05. Juli 2026! 🎉
DESCRIPTION:🎉 Einladung zum Voltigiertag in Herbertingen – 04. & 05. Juli 2026! 🎉\n\nLiebe Voltigiererinnen\, Trainerinnen\, Familien und Pferdefreunde\,\n\nes ist wieder so weit: Der RFV Herbertingen lädt Euch herzlich zum Voltigiertag mit Prüfungen in Anlehnung an Special Olympics und Paravoltigieren ein! Zwei Tage voller Sport\, Emotionen\, Teamgeist und ganz viel Spaß warten auf Euch.\n\n📍 Wann?\n\nSamstag\, 04. Juli 2026\nSonntag\, 05. Juli 2026\n\n🐴 Wo?\n\nReitanlage Herbertingen\nEspanstraße 20\n88518 Herbertingen \n\n🚗 Anfahrt (fürs Navi einfach eingeben):\n\nEspanstraße 20\, 88518 Herbertingen\n\nDie Reitanlage ist gut erreichbar und bietet ausreichend Platz für Pferd\, Team & Begleitung. Halle (20×40 m) und Sandplatz (23×47 m) stehen zur Verfügung. \n\n✅ Was erwartet Euch?\n\nEin bunt gemischtes Programm aus:\n\n\n	Gruppen‑\, Einzel‑ und Doppelvoltigieren\n	Prüfungen für Einsteiger bis Fortgeschrittene\n	Special‑Olympics- und Paravoltigier‑Wettbewerben\n	Just‑for‑Fun-Acts & Fasspferd‑Prüfungen \n\n\n⏱️ Wichtige Fristen\n\n\n	Nennschluss: 15.06.2026\n	Musik bitte bis 20.06.2026 per WeTransfer an: voltigieren.herbertingen@web.de\n	 \n\n\n📬 Nennung an:\n\nAndrea Buck\nBachstr. 51\n88521 Ertingen\nTel.: 0175 9975763\nE‑Mail: a.p.buck@t-online.de \n\n🏦 Nenngeld an:\n\nRFV Herbertingen\nIBAN: DE05 6509 3020 0380 8080 05\nBIC: GENODES1SLG\nVerwendungszweck: Voltitag + Vereinsname + Prüfungsnummern \n\nℹ️ Besondere Hinweise\n\n\n	Bitte Emailadresse bei der Nennung angeben (ZE wird per Mail geschickt).\n	Hunde sind auf dem gesamten Gelände an der Leine zu führen und dürfen nicht in die Halle.\n	Pferde müssen haftpflichtversichert und geimpft sein – Equidenpass bereithalten.\n	Der Veranstalter haftet nicht für Unfälle oder Sachschäden. \n\n\n\n💬 Wir freuen uns riesig auf Euch!\n\nKommt vorbei\, bringt gute Laune mit und macht dieses Wochenende zu einem unvergesslichen Erlebnis – egal ob als Teilnehmerin\, Betreuerin\, Familie oder Fan!\n\n\n \nPDF: https://psk-oberschwaben.de/site/assets/files/2469/2026-03-17_ausschreibung_herbertingen_wbo26.pdf
LOCATION:Reitanlage RFV Herbertingen\, Espanstraße 20\, 88518 Herbertingen
ATTACH:https://psk-oberschwaben.de/site/assets/files/2469/2026-03-17_ausschreibung_herbertingen_wbo26.pdf
END:VEVENT
END:VCALENDAR
