BEGIN:VCALENDAR
VERSION:2.0
PRODID:-//PSK Oberschwaben//ICS Export//DE
CALSCALE:GREGORIAN
BEGIN:VTIMEZONE
TZID:Europe/Berlin
X-LIC-LOCATION:Europe/Berlin
BEGIN:DAYLIGHT
TZOFFSETFROM:+0100
TZOFFSETTO:+0200
TZNAME:CEST
DTSTART:19700329T020000
RRULE:FREQ=YEARLY;BYMONTH=3;BYDAY=-1SU
END:DAYLIGHT
BEGIN:STANDARD
TZOFFSETFROM:+0200
TZOFFSETTO:+0100
TZNAME:CET
DTSTART:19701025T030000
RRULE:FREQ=YEARLY;BYMONTH=10;BYDAY=-1SU
END:STANDARD
END:VTIMEZONE
BEGIN:VEVENT
UID:2cc2c701851a7cf226b46d865472618dd5df75ab@psk-oberschwaben.de
DTSTAMP:20260420T020932Z
DTSTART;VALUE=DATE:20260502
DTEND;VALUE=DATE:20260504
SUMMARY:🌟 Einladung zum Voltigier‑Turnier 2026 in Hirschberg‑Großsachsen!
DESCRIPTION:🌟 Einladung zum Voltigier‑Turnier 2026 in Hirschberg‑Großsachsen! 🌟\n\n02.–03. Mai 2026 · Halle Großsachsen · Voltigieren bis Kl. S · mit LP & WB\n\nLiebe Voltigierer\, Trainer\, Vereine\, Fans und Pferdefreunde\,\nwir laden euch herzlich zum Voltigier-Event des Jahres in Nordbaden ein!\nAm 2. und 3. Mai 2026 verwandelt sich die Reitanlage Großsachsen wieder in ein Zentrum für Kunst\, Kraft\, Ausdruck und Teamgeist – Voltigieren vom Nachwuchs bis zur Klasse S!\n\nKommt vorbei\, macht mit\, feuert an oder genießt einfach die Atmosphäre eines spannenden Sportwochenendes! 🐴✨\n\n\n📍 Veranstaltungsort & Navi-Adresse\n\nReitanlage Großsachsen\nTalstraße 8\n69493 Hirschberg an der Bergstraße\n(Navi‑Adresse laut offizieller Ausschreibung) \n\n\n🗓 Wann?\n\n📅 Samstag\, 02. Mai 2026\n📅 Sonntag\, 03. Mai 2026\n\nNennungsschluss: 13. April 2026\nNennungen an:\nSophia Hamburger\n📬 Peter‑Nickel‑Str. 21\, 69469 Weinheim\n📞 0157 / 56935252\n📧 sophiahamburger@gmx.de\n\n\n⭐ Was erwartet euch?\n\nVoltigieren bis Klasse S\, Team‑\, Einzel‑ und Doppelprüfungen\, Junior‑ und Einsteigerwettbewerbe\, Nachwuchscup Nordbaden – ein voller Wochenendeinsatz für Pferd\, Mensch und Publikum!\n\nHighlights 2026:\n\n\n	⭐ Gruppenprüfungen von E bis S\n	⭐ Einzel‑Votigieren bis Klasse S\n	⭐ Doppel‑Voltigieren (inkl. Junioren)\n	⭐ Nachwuchscup Nordbaden – Station 1\n	⭐ Einsteiger‑ & Schritt-Wettbewerbe\n	⭐ Pflicht‑WB\, Longierpferde‑WB\, U21\, Junioren & mehr \n\n\n\n🏟 Platzverhältnisse\n\n\n	Halle: 20 x 40 m\n	Vorbereitung: Zügelplätze in der Halle + 6 Sandzirkel draußen\n\n\nSuper Bedingungen für optimale Vorbereitung und sportliche Leistungen!\n\n\n🐾 Wichtige Hinweise\n\n\n	Turniertierarzt: Tierarztpraxis VetKomplett\n	Kein Hufschmied vor Ort\n	Musik bitte bis 25.04.2026 per WeTransfer an rv-grosssachsen@web.de\n	Pilotprojekt 2026!\n	\n		Übungen auf beiden Händen möglich\n		Alternatives Auslaufen\n		Lauferzügel mit 40 cm Abstand (LPO & WBO)\n	\n	\n	Friendly‑Horse‑Regelung nach Absprache\n\n\n\n🔄 Zeitplan (vorläufig)\n\nSamstag Vormittag:\n\nPrüfungen 7–11\n\nSamstag Nachmittag:\n\nPrüfungen 17\, 18\, 21\n\nSonntag Vormittag:\n\nPrüfungen 12–16 & 19\, 20\, 22\, 23\n\nSonntag Nachmittag:\n\nPrüfungen 1–6\n\n(Änderungen je nach Nennungsaufkommen möglich.)\n\n\n💛 Warum ihr dabei sein müsst\n\n\n	Top‑Organisation\n	Starke Starterfelder\n	Neue Pilot‑Regelungen – perfekt zum Ausprobieren\n	Charmante Anlage\, kurze Wege\, gute Stimmung\n	Junge und erfahrene Sportler am Start\n	Vielseitige Prüfungen für jede Alters‑ & Leistungsklasse\n\n\n\n🙌 Wir freuen uns auf euch!\n\nOb als Teilnehmerin\, Trainerin\, Eltern\, Helfer oder Zuschauer – ihr macht dieses Turnier besonders.\nKommt vorbei und erlebt Spannung\, Emotionen und ganz viel Pferdesport!\n\nFür Rückfragen steht euch Turnierleitung Sophia Hamburger jederzeit zur Verfügung.\n\n \nPDF: https://psk-oberschwaben.de/site/assets/files/2464/ausschreibung_grosssachsen_2026.pdf
LOCATION:Reitanlage Großsachsen\, Talstraße 8\, 69493 Hirschberg an der Bergstraße
ATTACH:https://psk-oberschwaben.de/site/assets/files/2464/ausschreibung_grosssachsen_2026.pdf
END:VEVENT
END:VCALENDAR
