BEGIN:VCALENDAR
VERSION:2.0
PRODID:-//PSK Oberschwaben//ICS Export//DE
CALSCALE:GREGORIAN
BEGIN:VTIMEZONE
TZID:Europe/Berlin
X-LIC-LOCATION:Europe/Berlin
BEGIN:DAYLIGHT
TZOFFSETFROM:+0100
TZOFFSETTO:+0200
TZNAME:CEST
DTSTART:19700329T020000
RRULE:FREQ=YEARLY;BYMONTH=3;BYDAY=-1SU
END:DAYLIGHT
BEGIN:STANDARD
TZOFFSETFROM:+0200
TZOFFSETTO:+0100
TZNAME:CET
DTSTART:19701025T030000
RRULE:FREQ=YEARLY;BYMONTH=10;BYDAY=-1SU
END:STANDARD
END:VTIMEZONE
BEGIN:VEVENT
UID:b6e8e9a280f99489d7df45ae8104038b6fbeef8c@psk-oberschwaben.de
DTSTAMP:20260422T082912Z
DTSTART;TZID=Europe/Berlin:20260516T080000
DTEND;TZID=Europe/Berlin:20260517T180000
SUMMARY:📣 Einladung zur Voltigier‑Veranstaltung in Ehingen 16.–17. Mai 2026 – 2. Sichtung zum L‑Team‑Cup
DESCRIPTION:📣 Einladung zur Voltigier‑Veranstaltung in Ehingen\n\n16.–17. Mai 2026 – 2. Sichtung zum L‑Team‑Cup\n\nRFV Ehingen\n\nLiebe Voltigierer\, Trainer\, Eltern und Pferdefreunde\,\nwir laden euch herzlich zu unserer zweitägigen Voltigier‑Veranstaltung in Ehingen ein! Euch erwartet ein spannendes Programm von Wettbewerben bis Klasse S\, inklusive 2. Sichtung für den L‑Team‑Cup\, Einzel‑\, Doppel‑ und Gruppenprüfungen sowie zahlreiche Wettbewerbe für Nachwuchs‑ und Breitensportvoltigierer.\n\n\n📅 Veranstaltungsdaten\n\nDatum: Samstag & Sonntag\, 16.–17.05.2026\nVeranstalter: RFV Ehingen\nOrt: Ehingen (Donau)\n\n\n📍 Anfahrt (für Navi)\n\nBitte im Navigationssystem folgende Adresse eingeben:\n\n👉 Jungviehweide 2\, 89584 Ehingen (Donau)\n(Offizielle Veranstalter‑Anschrift für den Routenplaner)\n \n\nParkplätze sind ausgeschildert.\n\n\n🕒 Vorläufige Zeitplanung (ZE)\n\nAus der Ausschreibung:\n\n\n	Samstag Vormittag: Prüfungen 4\, 5\, 6\, 15\, 16\, 19\n	Samstag Nachmittag: Prüfungen 1\, 2\, 3\, 12\, 13\, 14\n	Sonntag Vormittag: Prüfungen 7\, 8\, 11\n	Sonntag Nachmittag: Prüfungen 9\, 10\, 17\, 18 \n\n\nDie finale Zeiteinteilung wird im NeOn sowie online auf der Seite des Volti‑Team Ehingen veröffentlicht.\n\n\n🏆 Was euch erwartet\n\n\n	Gruppenprüfungen von E bis M\n	Einzelprüfungen bis Klasse S\n	Doppelvoltigieren\n	Nachwuchs‑ und Einsteigerwettbewerbe\n	Familien‑ und Kostümwettbewerbe\n	Prüfungen zur Kreismeisterschaft PSK Alb‑Donau \n\n\nEin Wochenende voller Sport\, Teamgeist\, Freude und Voltigierleidenschaft!\n\n\n📬 Nennung & Kontakt\n\nNennungsschluss: 27.04.2026\nNennungen an: Andrea Schlecker\n📧 andrea.schlecker@yahoo.de\n📞 0175 / 1105819\n \n\nWeitere Informationen sowie Pferdeliste & finale Zeiteinteilung:\n🌐 https://volti-team-ehingen.jimdofree.com/\n\n\n🌟 Wir freuen uns auf euch und auf ein großartiges Voltigier‑Wochenende!\nPDF: https://psk-oberschwaben.de/site/assets/files/2462/ausschreibung.pdf
LOCATION:Turnier Ehingen\, Turniergelände: RFV Ehingen e.V. \, Jungviehweide 2\, 89584 Ehingen
ATTACH:https://psk-oberschwaben.de/site/assets/files/2462/ausschreibung.pdf
END:VEVENT
END:VCALENDAR
