BEGIN:VCALENDAR
VERSION:2.0
PRODID:-//PSK Oberschwaben//ICS Export//DE
CALSCALE:GREGORIAN
BEGIN:VTIMEZONE
TZID:Europe/Berlin
X-LIC-LOCATION:Europe/Berlin
BEGIN:DAYLIGHT
TZOFFSETFROM:+0100
TZOFFSETTO:+0200
TZNAME:CEST
DTSTART:19700329T020000
RRULE:FREQ=YEARLY;BYMONTH=3;BYDAY=-1SU
END:DAYLIGHT
BEGIN:STANDARD
TZOFFSETFROM:+0200
TZOFFSETTO:+0100
TZNAME:CET
DTSTART:19701025T030000
RRULE:FREQ=YEARLY;BYMONTH=10;BYDAY=-1SU
END:STANDARD
END:VTIMEZONE
BEGIN:VEVENT
UID:737c572125279575d3687ac2a6a2a87cbfa86483@psk-oberschwaben.de
DTSTAMP:20260420T021117Z
DTSTART;TZID=Europe/Berlin:20260425T080000
DTEND;TZID=Europe/Berlin:20260425T180000
SUMMARY:🐴✨Pferdemarkt Ravensburg 25. April & Reiterflohmarkt beim Pferdemarkt Ravensburg
DESCRIPTION:🐴✨ Pferdemarkt Ravensburg 25. April & Reiterflohmarkt beim Pferdemarkt Ravensburg – Jetzt Stand sichern! ✨🐴\n\nAm Samstag\, 25. April 2026\, wird Ravensburg wieder zum Treffpunkt für Pferdefans\, Reiterinnen und Reiter – denn beim traditionellen Ravensburger Pferdemarkt findet erneut der beliebte Reiterflohmarkt statt!\nVon 9 bis 15 Uhr verwandelt sich der Parkplatz an der Oberschwabenhalle in ein Paradies für Schnäppchenjäger\, Sammler und alle\, die rund ums Pferd etwas suchen oder verkaufen möchten. \n\nOb Reitbekleidung\, Sättel\, Trensen\, Putzzeug\, Turnierzubehör oder liebevoll gehütete Schätze aus dem Stall – hier findet garantiert jeder etwas!\n\n💸 Standinfos\n\n\n	10 € Standgebühr\n	Tische werden gestellt – also einfach vorbeikommen und aufbauen!\n	Bezahlbar bei Ankunft \n\n\n📲 Anmeldung\n\nDie Plätze sind begrenzt!\n➡️ Anmeldung per WhatsApp bis 20.04.2026 unter 0151 / 56359842.\n\n🐎 Warum du dabei sein solltest\n\n✔ Perfekt zum Aussortieren & Verkaufen\n✔ Super Gelegenheit zum Stöbern & Sparen\n✔ Treffpunkt für die ganze Pferdeszene der Region\n✔ Teil des großen Ravensburger Pferdemarkts – Stimmung garantiert!\nciteturn6search1\n\n\n🎉 Also: Sachen packen\, Termin vormerken und mitmachen!\nWir freuen uns auf viele Stände\, tolle Begegnungen und einen gelungenen Reiterflohmarkt 2026!\n\n\n🎯 Standinfos\n\n\n	Ort: Parkplatz Oberschwabenhalle\n	NAVI: Bleicherstraße 20\, 88212 Ravensburg
LOCATION:Parkplatz Oberschwabenhalle: Bleicherstraße 20\, 88212 Ravensburg
END:VEVENT
END:VCALENDAR
