BEGIN:VCALENDAR
VERSION:2.0
PRODID:-//PSK Oberschwaben//ICS Export//DE
CALSCALE:GREGORIAN
BEGIN:VTIMEZONE
TZID:Europe/Berlin
X-LIC-LOCATION:Europe/Berlin
BEGIN:DAYLIGHT
TZOFFSETFROM:+0100
TZOFFSETTO:+0200
TZNAME:CEST
DTSTART:19700329T020000
RRULE:FREQ=YEARLY;BYMONTH=3;BYDAY=-1SU
END:DAYLIGHT
BEGIN:STANDARD
TZOFFSETFROM:+0200
TZOFFSETTO:+0100
TZNAME:CET
DTSTART:19701025T030000
RRULE:FREQ=YEARLY;BYMONTH=10;BYDAY=-1SU
END:STANDARD
END:VTIMEZONE
BEGIN:VEVENT
UID:1e44e221a35598b5f56c9721ace711359930e705@psk-oberschwaben.de
DTSTAMP:20260420T021005Z
DTSTART;TZID=Europe/Berlin:20260425T080000
DTEND;TZID=Europe/Berlin:20260426T180000
SUMMARY:⭐ Einladung zum Leonberger Voltigier‑Event 2026: Ilse & Paul Lorenz Gedächtnisturnier – 1. Sichtung DM/DJM & L‑Team Cup
DESCRIPTION:⭐ Einladung zum Leonberger Voltigier‑Event 2026!\n\nIlse & Paul Lorenz Gedächtnisturnier – 1. Sichtung DM/DJM & L‑Team Cup\n\n📅 25.–26. April 2026\n\nMach dich bereit für ein Voltigier‑Wochenende der Extraklasse!\nSpannende Prüfungen\, Top‑Teams\, DM/DJM‑Sichtungen und jede Menge Turnierfeeling warten auf euch in Leonberg.\n\n\n📍 Veranstaltungsort\n\nRFV Leonberg – Reitanlage Tilgshäusle\nTilgshäusleweg 2\n71229 Leonberg\n\n👉 Navi‑Adresse:\nTilgshäusleweg 2\, 71229 Leonberg\n\n\n🎪 Was erwartet euch?\n\n\n	Prüfungen von E bis S\n	Gruppen‑\, Einzel‑ und Doppelvoltigieren\n	Sichtungen für DM\, DJM & L‑Team Cup\n	Leonberg Voltigieren – Hallenturnier im Rahmen des Lorenz‑Voltigierpokals\n	Spannender Wettbewerb um den Vereins‑Wanderpokal + 100 € Preisgeld\n	[Leonberg 2...schreibung | PDF]\n\n\n\n🕒 Wichtige Infos\n\n\n	Nennungsschluss: 07. April 2026\n	Kontakt: teams@voltigieren-leonberg.de\n	Meldeschluss: 90 Minuten vor Prüfungsbeginn\n	Prüfungsplätze:\n	\n		Wettkampfhalle: 25 × 45 m\n		Vorbereitungshalle: 20 × 40 m\n	\n	\n	Hufschmied & Tierarzt im Rufdienst\n	Musik-Upload bis 23.04.2026\n\n\n💡 Besondere Hinweise\n\n\n	Keine Boxen verfügbar\n	Hunde bitte an die Leine – kein Zutritt zur Wettkampfhalle\n	Startfolge nach Starterraster\n	Teilnahme nur mit FN‑Mitgliedschaft\n\n\n\n🚗 Anfahrt\n\n👉 Direkt ins Navi eingeben:\nTilgshäusleweg 2\, 71229 Leonberg\nParkplätze sind ausgeschildert.\n\n\n🎉 Wir freuen uns auf ein großartiges Turnier\, fantastische Voltigiermomente und ein Wiedersehen in Leonberg!\n\n\n\nPDF: https://psk-oberschwaben.de/site/assets/files/2416/leonberg_25_-26_4_26_-_genehmigte_ausschreibung.pdf
LOCATION:RFV Leonberg – Reitanlage Tilgshäusle\, Tilgshäusleweg 2\, D - 71229 Leonberg
ATTACH:https://psk-oberschwaben.de/site/assets/files/2416/leonberg_25_-26_4_26_-_genehmigte_ausschreibung.pdf
END:VEVENT
END:VCALENDAR
