BEGIN:VCALENDAR
VERSION:2.0
PRODID:-//PSK Oberschwaben//ICS Export//DE
CALSCALE:GREGORIAN
BEGIN:VTIMEZONE
TZID:Europe/Berlin
X-LIC-LOCATION:Europe/Berlin
BEGIN:DAYLIGHT
TZOFFSETFROM:+0100
TZOFFSETTO:+0200
TZNAME:CEST
DTSTART:19700329T020000
RRULE:FREQ=YEARLY;BYMONTH=3;BYDAY=-1SU
END:DAYLIGHT
BEGIN:STANDARD
TZOFFSETFROM:+0200
TZOFFSETTO:+0100
TZNAME:CET
DTSTART:19701025T030000
RRULE:FREQ=YEARLY;BYMONTH=10;BYDAY=-1SU
END:STANDARD
END:VTIMEZONE
BEGIN:VEVENT
UID:48e6bb50f37f3617f8cde1eef174e47ba34dd8e9@psk-oberschwaben.de
DTSTAMP:20260422T082912Z
DTSTART;TZID=Europe/Berlin:20260829T080000
DTEND;TZID=Europe/Berlin:20260830T180000
SUMMARY:📣 🐴 PSKO-Meisterschaften Vierkampf (Cup) 2026 in Baindt (Station 1)! 🏆
DESCRIPTION:🏆🔥 Einladung zu den PSKO‑Meisterschaften 2026 – Vierkampf als Cup! 🔥🏆\n\nLaufen • Schwimmen • Dressur • Springen – EIN Wettkampf\, vier Herausforderungen!\n\nDer Pferdesportkreis Oberschwaben lädt alle sportbegeisterten Reiterinnen\, Vierkämpferinnen und Vereine herzlich zu den PSKO‑Meisterschaften 2026 in der Sparte Vierkampf ein – dieses Jahr wieder als Cup‑Wertung über drei Turniere!\n\n\n🐎 Was ist Vierkampf?\n\nVierkampf verbindet klassische Leichtathletik mit Reitsport – ein spannender Mix aus\n➡️ Laufen\n➡️ Schwimmen\n➡️ Dressur\n➡️ Springreiten\n\nEin Format\, das Teamgeist\, Fitness und reiterliches Können perfekt vereint!\n\n\n🥇 Ausgeschrieben werden die PSKO‑Meistertitel in drei Klassen:\n\n⭐ 1. Vierkampf Einsteiger\n\n\n	800 m Laufen\n	25 m Schwimmen\n	Reiter‑Wettbewerb (RWB)\n	Spring‑RWB\n\n\n⭐ 2. Vierkampf E (Basis)\n\n\n	2000 m Laufen\n	50 m Schwimmen\n	Dressur E\n	Springen Kl. E\n\n\n⭐ 3. Vierkampf A (Profis)\n\n\n	3000 m Laufen\n	50 m Schwimmen\n	Dressur A\n	Springen Kl. A\n\n\n\n📅 Cup‑Termine 2026\n\nDie Punkte aus allen drei Turnieren werden addiert – nur eine Klasse pro Teilnehmer*in möglich.\n\n\n	\n		\n			Cup‑Station\n			Ort\n			Datum\n		\n		\n			1\n			Baindt\n			29./30.08.2026\n		\n		\n			2\n			Herbertingen BWM\n			12./13.09.2026\n		\n		\n			3\n			Zollenreute – Best of Württemberg\n			26./27.09.2026\n		\n	\n\n\n\n🏅 Wer darf teilnehmen?\n\nAlle Alters‑ und Leistungsklassen sind willkommen!\nWeitere Bestimmungen werden an der Meldestelle ausgehängt.\n\n\n🎉 Ehrung der PSKO‑Meister\n\nDie feierliche Ehrung findet traditionsgemäß beim PSKO‑Ball statt – ein festlicher Abschluss für alle Cup‑Held*innen!\n\n\n📞 Kontakt & Infos\n\nSpartenleitung Vierkampf: Josef Heinzelmann\n📱 0160‑90140196\n🌐 Vierkampf | PSK Oberschwaben\n✉️ Vierkampf@psk-oberschwaben.de\n\n\n🚀 Seid dabei – macht den Vierkampf‑Cup 2026 zu eurem Highlight!\n\nOb Einsteiger\, Basis oder A‑Klasse: Dieser Cup bringt Motivation\, Teamspirit und Wettkampfgefühl pur!\n\n\n\nPDF: https://psk-oberschwaben.de/site/assets/files/2404/psko_meisterschaften_2026_sparte_vierkampf.pdf
LOCATION:Reitergruppe Baindt e.V.\, Reitanlage in der Sulpacher Str. 125/1\, 88255 Baindt
ATTACH:https://psk-oberschwaben.de/site/assets/files/2404/psko_meisterschaften_2026_sparte_vierkampf.pdf
END:VEVENT
END:VCALENDAR
