BEGIN:VCALENDAR
VERSION:2.0
PRODID:-//PSK Oberschwaben//ICS Export//DE
CALSCALE:GREGORIAN
BEGIN:VTIMEZONE
TZID:Europe/Berlin
X-LIC-LOCATION:Europe/Berlin
BEGIN:DAYLIGHT
TZOFFSETFROM:+0100
TZOFFSETTO:+0200
TZNAME:CEST
DTSTART:19700329T020000
RRULE:FREQ=YEARLY;BYMONTH=3;BYDAY=-1SU
END:DAYLIGHT
BEGIN:STANDARD
TZOFFSETFROM:+0200
TZOFFSETTO:+0100
TZNAME:CET
DTSTART:19701025T030000
RRULE:FREQ=YEARLY;BYMONTH=10;BYDAY=-1SU
END:STANDARD
END:VTIMEZONE
BEGIN:VEVENT
UID:681cf6c3a1a1865e73bfd5a79b0478e6e0bed82f@psk-oberschwaben.de
DTSTAMP:20260420T020942Z
DTSTART;TZID=Europe/Berlin:20260627T080000
DTEND;TZID=Europe/Berlin:20260628T180000
SUMMARY:🎉Breitensport‑Turnier 2026: Dressur & Springen mit Schwäbischem Vierkampf!
DESCRIPTION:🎉 Einladung zum Breitensport‑Turnier 2026! 🎉\n\n27. – 28. Juni | Reitclub Bergatreute\n\nDer RC Bergatreute lädt herzlich ein zu einem sportlichen\, spannenden und vielseitigen Turnierwochenende – ein Event für Reiter*innen\, Pferdefreunde und Zuschauer!\n\n\n🐴 Was erwartet euch?\n\n⭐ Samstag – Dressur\n\nElegante Ritte\, konzentrierte Teams und wunderschöne Momente im Dressurviereck.\n\n⭐ Samstag Abend – Schwäbischer Vierkampf\n\nSportlich\, abwechslungsreich\, spannend – Zuschauer willkommen!\nEin echtes Highlight des Wochenendes.\n\n⭐ Sonntag – Springen\n\nTempo\, Technik und Nervenkitzel im Parcours – Action garantiert!\n\n\n📅 Termin:\n\n27. – 28. Juni\n\n📍 Ort:\n\nReitclub Bergatreute\n\n\n💬 Warum ihr dabei sein solltet:\n\n\n	Perfekt für Breitensportler aller Sparten\n	Familiäre\, freundliche Atmosphäre\n	Tolle Sportmomente und spannende Prüfungen\n	Für Verpflegung und gute Stimmung ist gesorgt\n\n\n\nℹ️ Weitere Informationen folgen!\n\nBehalte unsere Kanäle im Blick – bald gibt es Ausschreibungen\, Startzeiten & Details.
LOCATION:RC Bergatreute\, Rossberger Str. 1\, D - 88368 Bergatreute
END:VEVENT
END:VCALENDAR
