BEGIN:VCALENDAR
VERSION:2.0
PRODID:-//PSK Oberschwaben//ICS Export//DE
CALSCALE:GREGORIAN
BEGIN:VTIMEZONE
TZID:Europe/Berlin
X-LIC-LOCATION:Europe/Berlin
BEGIN:DAYLIGHT
TZOFFSETFROM:+0100
TZOFFSETTO:+0200
TZNAME:CEST
DTSTART:19700329T020000
RRULE:FREQ=YEARLY;BYMONTH=3;BYDAY=-1SU
END:DAYLIGHT
BEGIN:STANDARD
TZOFFSETFROM:+0200
TZOFFSETTO:+0100
TZNAME:CET
DTSTART:19701025T030000
RRULE:FREQ=YEARLY;BYMONTH=10;BYDAY=-1SU
END:STANDARD
END:VTIMEZONE
BEGIN:VEVENT
UID:f3c9fdd682eb765a83e4abd57c295af7cb211d93@psk-oberschwaben.de
DTSTAMP:20260420T053434Z
DTSTART;TZID=Europe/Berlin:20260926T080000
DTEND;TZID=Europe/Berlin:20260927T180000
SUMMARY:📣 🐴 PSKO-Meisterschaften Voltigieren 2026 in Isny! 🏆
DESCRIPTION:🎠 Einladung zur PSKO Meisterschaft – Voltigieren 🎠\n\nLiebe Pferdesportfreunde\,\nam 26. September 2026 heißt es: „Hoch aufs Pferd für die Meisterschaft!“\nDer Reit- und Fahrverein Isny Rohrdorf lädt euch herzlich ein zur PSKO-Meisterschaft im Voltigieren.\n\n📍 Ort: RFV Isny-Rohrdorf\, Lochter 2\, 88316 Isny\n📅 Datum: Samstag & Sonntag\, 26+27.09.2026\n\nWas erwartet euch?\n✅ Spannende Volti-Prüfungen im WBO & LPO-Bereich für alle Sportliebhaber\n✅ Meisterschaftsfeeling und tolle Stimmung\n✅ Kulinarische Highlights für Zuschauer und Teilnehmer\n\nKommt vorbei und erlebt einen Tag voller Action\, Pferdestärken und Geselligkeit!\n\nWir freuen uns auf euch!\nEuer PSKO-Team\n\n\n\nPDF: https://psk-oberschwaben.de/site/assets/files/2180/psko_meisterschaften_2026_sparte_voltigieren.pdf
LOCATION:RFV Isny Rohrdorf\, Reitanlage Ratzenhof: Lochter 2\, D - 88316 Isny
ATTACH:https://psk-oberschwaben.de/site/assets/files/2180/psko_meisterschaften_2026_sparte_voltigieren.pdf
END:VEVENT
END:VCALENDAR
