BEGIN:VCALENDAR
VERSION:2.0
PRODID:-//PSK Oberschwaben//ICS Export//DE
CALSCALE:GREGORIAN
BEGIN:VTIMEZONE
TZID:Europe/Berlin
X-LIC-LOCATION:Europe/Berlin
BEGIN:DAYLIGHT
TZOFFSETFROM:+0100
TZOFFSETTO:+0200
TZNAME:CEST
DTSTART:19700329T020000
RRULE:FREQ=YEARLY;BYMONTH=3;BYDAY=-1SU
END:DAYLIGHT
BEGIN:STANDARD
TZOFFSETFROM:+0200
TZOFFSETTO:+0100
TZNAME:CET
DTSTART:19701025T030000
RRULE:FREQ=YEARLY;BYMONTH=10;BYDAY=-1SU
END:STANDARD
END:VTIMEZONE
BEGIN:VEVENT
UID:a0ed74a28702058d189d58b6fb828f3d1fe5347e@psk-oberschwaben.de
DTSTAMP:20260420T021610Z
DTSTART;TZID=Europe/Berlin:20260425T090000
DTEND;TZID=Europe/Berlin:20260425T150000
SUMMARY:📅 Sportkreistag 2026 – Gemeinsam Zukunft gestalten: 25. April 2026 📅📣
DESCRIPTION:SAVE THE DATE!\n🎉 Sportkreistag 2026 – Gemeinsam Zukunft gestalten! 🎉\n\n📅 Wann: Samstag\, 25. April 2026\n📍 Wo: Turn- und Festhalle Weißenau\n\nAlle 4 Jahre kommt der Sportkreis Ravensburg e.V. mit seinen 316 Mitgliedsvereinen zur großen Hauptversammlung zusammen. Seien Sie dabei\, wenn wir die Weichen für die nächsten Jahre stellen!\n\n👉 Wir suchen engagierte Vertreter*innen der Fachverbände für unsere Vorstandschaft!\nInteresse? Melden Sie sich bis 18. März 2026 bei unserer Geschäftsstelle.\n\nKontakt für Fragen:\nKarlheinz Beck (Präsident) – 0751 / 59244\nMaren Lüke (Vizepräsidentin) – 07503 / 915709\nEberhard Heurich (Vizepräsident) – 0751 / 5573010\n\nWeitere Infos: http://www.sportkreis-ravensburg.de\n\nMit sportlichen Grüßen – Ihr Sportkreis Ravensburg e.V.\n\n\n🎉 Einladung zum Sportkreistag 2026\n\n🔥 Das Gipfeltreffen des Sports im Landkreis Ravensburg! 🔥\n\nLiebe Fachverbandsverantwortliche\, liebe Sportfreundinnen und Sportfreunde\,\n\nes ist wieder soweit:\nDer Sportkreis Ravensburg e.V. lädt euch herzlich zum ordentlichen Sportkreistag 2026 ein – dem wichtigsten sportpolitischen Ereignis im gesamten Sportkreis!\nAlle vier Jahre treffen sich hier alle 316 WLSB‑Mitgliedsvereine\, um gemeinsam Weichen zu stellen\, Entscheidungen zu treffen und die Zukunft des Sports zu gestalten.\n\n\n📅 Termin & Ort\n\n📆 Samstag\, 25. April 2026\n⏰ Saalöffnung 09:00 Uhr\, Beginn 09:30 Uhr\n📍 Turn- und Festhalle Weißenau\, Bahnhofstraße 5/2\, 88214 Ravensburg\n\n\n📝 Tagesordnung – kurz\, klar & kraftvoll\n\n\n	Begrüßung\n	Totenehrung\n	Grußworte\n	Berichte (u.a. Präsident Karlheinz Beck & Präsidium Finanzen Max Baier)\n	Aussprache\n	Bericht der Kassenprüfer\n	Entlastung\n	Großer Wahlblock gemäß §§7–9\n	\n		Wahlausschuss\n		Sportkreispräsidium\n		Sportkreisvorstand\n		Kassenprüfer\n		Delegierte für diverse Gremien\n	\n	\n	Werte\, Sport und Demokratieförderung\n	Beschlussfassung zur neuen Sportkreis‑Satzung\n	Ehrungen & Verabschiedungen\n	Anträge\n	Verschiedenes \n\n\n\n📌 Wichtig zu wissen\n\n🗳️ Anträge zur Tagesordnung\n→ mü ssen bis spätestens zwei Wochen vorher schriftlich eingereicht sein.\n→ Dringlichkeitsanträge nur in Ausnahmefällen & mit Begründung möglich.\n\n📘 Berichtsheft 2022–2026\n→ digital aufwww.sportkreis-ravensburg.de verfügbar.\n\n📝 Anmeldung bis spätestens 11. April 2026\n→ über das Online‑Formular auf der Homepage.\n\n\n🌟 Warum du unbedingt kommen solltest\n\n\n	Weil Mitgestaltung nur gelingt\, wenn du dabei bist\n	Weil große Wahlen anstehen\, die den Sportkreis prägen\n	Weil wir gemeinsam über Zukunftsfragen\, Werte und Demokratie im Sport sprechen\n	Weil der Sportkreis nur so stark ist wie seine Menschen 💪\n\n\n\n🙌 Wir freuen uns auf euch!\n\nFür das Sportkreispräsidium:\nKarlheinz Beck – Präsident\nMaren Lüke – Vizepräsidentin\nEberhard Heurich – Vizepräsident\nPDF: https://psk-oberschwaben.de/site/assets/files/2121/20251211_save_the_date_verbande.pdf\nPDF: https://psk-oberschwaben.de/site/assets/files/2121/20260223_einladung_sportkreistag_verbande_alle.pdf
LOCATION:Turn‑ und Festhalle Weißenau\, An der Bleicherei 3\, D - 88214 Ravensburg
ATTACH:https://psk-oberschwaben.de/site/assets/files/2121/20251211_save_the_date_verbande.pdf
ATTACH:https://psk-oberschwaben.de/site/assets/files/2121/20260223_einladung_sportkreistag_verbande_alle.pdf
END:VEVENT
END:VCALENDAR
