BEGIN:VCALENDAR
VERSION:2.0
PRODID:-//PSK Oberschwaben//ICS Export//DE
CALSCALE:GREGORIAN
BEGIN:VTIMEZONE
TZID:Europe/Berlin
X-LIC-LOCATION:Europe/Berlin
BEGIN:DAYLIGHT
TZOFFSETFROM:+0100
TZOFFSETTO:+0200
TZNAME:CEST
DTSTART:19700329T020000
RRULE:FREQ=YEARLY;BYMONTH=3;BYDAY=-1SU
END:DAYLIGHT
BEGIN:STANDARD
TZOFFSETFROM:+0200
TZOFFSETTO:+0100
TZNAME:CET
DTSTART:19701025T030000
RRULE:FREQ=YEARLY;BYMONTH=10;BYDAY=-1SU
END:STANDARD
END:VTIMEZONE
BEGIN:VEVENT
UID:b7e693f9ac0949f7526d129928ea2573f206c7b7@psk-oberschwaben.de
DTSTAMP:20260422T121020Z
DTSTART;TZID=Europe/Berlin:20260425T080000
DTEND;TZID=Europe/Berlin:20260426T180000
SUMMARY:🌟 Vielseitigkeitslehrgang beim RFV Donauwörth-Mertingen e.V.
DESCRIPTION:📣 Einladung zum Vielseitigkeitslehrgang!\n\nSAVE THE DATE – Vielseitigkeitskurse 2026!\nDu willst mit Deinem Pferd fit in die Saison starten? Dann sei dabei bei unseren spannenden Vielseitigkeits-Lehrgängen im Reit- und Fahrverein Donauwörth-Mertingen e. V.!\n\n📍 Wo? Hagenmühlenweg 1\, 86690 Mertingen\n📅 Wann?\n\n\n	07./08. Februar (Indoor)\n	\n	\n		März (nur bei gutem Wetter)\n	\n	\n	25./26. April\n	\n	\n		Mai\n	\n	\n	\n	\n		Juni\n	\n	\n	\n	\n		September\n	\n	\n\n\n💰 Preise:\n\n\n	1 Tag: 59 €\n	2 Tage: 110 €\n	Special Deal: 3 Einheiten Deiner Wahl für nur 149 €!\n\n\n👥 Gruppen: 3–4 Reiter – intensives Training garantiert!\n✅ Inklusive Anlagennutzung\n\nJetzt anmelden:\n📧 lehrgangorga@gmail.com\n📱 WhatsApp: 0171-8605993\nBezahlung: Bar vor Ort oder per PayPal\n\n👉 Schnell sein lohnt sich – sichere Dir Deinen Platz und starte durch!
LOCATION:Reit- und Fahrverein Donauwörth-Mertingen e. V.\, Hagenmühlenweg 1\, 86690 Mertingen
END:VEVENT
END:VCALENDAR
