BEGIN:VCALENDAR
VERSION:2.0
PRODID:-//PSK Oberschwaben//ICS Export//DE
CALSCALE:GREGORIAN
BEGIN:VTIMEZONE
TZID:Europe/Berlin
X-LIC-LOCATION:Europe/Berlin
BEGIN:DAYLIGHT
TZOFFSETFROM:+0100
TZOFFSETTO:+0200
TZNAME:CEST
DTSTART:19700329T020000
RRULE:FREQ=YEARLY;BYMONTH=3;BYDAY=-1SU
END:DAYLIGHT
BEGIN:STANDARD
TZOFFSETFROM:+0200
TZOFFSETTO:+0100
TZNAME:CET
DTSTART:19701025T030000
RRULE:FREQ=YEARLY;BYMONTH=10;BYDAY=-1SU
END:STANDARD
END:VTIMEZONE
BEGIN:VEVENT
UID:9bbdb7c5d130bdffa2a3841c66546b24012dcb84@psk-oberschwaben.de
DTSTAMP:20260420T053424Z
DTSTART;TZID=Europe/Berlin:20260912T090000
DTEND;TZID=Europe/Berlin:20260920T180000
SUMMARY:✅ Vielfalt Pferd – Aktionswoche 2026
DESCRIPTION:✅ Vielfalt Pferd – Aktionswoche 2026\n\nZeitraum:\n📅 12. – 20. September 2026\n\nZiel:\nNoch mehr Menschen und Medien für das Pferd begeistern – für eine starke Gemeinschaft rund um das Pferd.\n\nWas ist geplant?\n\n\n	Aktionen in ganz Deutschland: vom Ponyhof bis zum Verband\n	Beispiele:\n	\n		Ponys im Kindergarten\n		Familientag im Stall\n		Team-Erlebnistag\n	\n	\n	Jede einzelne Aktion zählt!\n\n\nWarum mitmachen?\n\n\n	Rückblick 2025:\n	\n		Über 700 Aktionen\n		Mehr als 50.000 Menschen erreicht\n		70 Presseberichte\n		1\,4 Mio. Social-Media-Kontakte\n	\n	\n	Das Pferd begeistert und verbindet!\n\n\nInfos & Ideen:\n🌐 https://vielfaltpferd.com\n📱 Instagram: @vielfalt.pferd\n\n\nEinladung zum Mitmachen\n\nMach mit bei der Aktionswoche „Vielfalt Pferd“ vom 12. bis 20. September 2026!\nOb du einen Ponytag im Kindergarten organisierst\, einen Familientag im Stall planst oder ein Team-Event rund ums Pferd veranstaltest – jede Aktion bringt uns zusammen und zeigt\, wie vielfältig die Welt mit Pferden ist.\n\n👉 Alle Rassen. Alle Disziplinen. Alle willkommen!\nTeile deine Ideen und Aktionen online unter https://vielfaltpferd.com oder auf Instagram @vielfalt.pferd.\nGemeinsam machen wir Pferde erlebbar – für alle!\n\n\n\nPDF: https://psk-oberschwaben.de/site/assets/files/2027/2026_vielfalt_pferd_aktionswoche.pdf
LOCATION:Instagram @vielfalt.pferd
ATTACH:https://psk-oberschwaben.de/site/assets/files/2027/2026_vielfalt_pferd_aktionswoche.pdf
END:VEVENT
END:VCALENDAR
