BEGIN:VCALENDAR
VERSION:2.0
PRODID:-//PSK Oberschwaben//ICS Export//DE
CALSCALE:GREGORIAN
BEGIN:VTIMEZONE
TZID:Europe/Berlin
X-LIC-LOCATION:Europe/Berlin
BEGIN:DAYLIGHT
TZOFFSETFROM:+0100
TZOFFSETTO:+0200
TZNAME:CEST
DTSTART:19700329T020000
RRULE:FREQ=YEARLY;BYMONTH=3;BYDAY=-1SU
END:DAYLIGHT
BEGIN:STANDARD
TZOFFSETFROM:+0200
TZOFFSETTO:+0100
TZNAME:CET
DTSTART:19701025T030000
RRULE:FREQ=YEARLY;BYMONTH=10;BYDAY=-1SU
END:STANDARD
END:VTIMEZONE
BEGIN:VEVENT
UID:495102ff1b0917aed65e10054c280b83b7edea95@psk-oberschwaben.de
DTSTAMP:20260421T105157Z
DTSTART;TZID=Europe/Berlin:20261107T180000
DTEND;TZID=Europe/Berlin:20261107T020000
SUMMARY:📌 SAVE THE DATE!  ✨🏇PSKO-Ball 2026 🏇✨
DESCRIPTION:📌 SAVE THE DATE! 🎉 PSKO-Ball 2026 - ... dabei sein zählt !!! 🎉\n🏇✨ PSK Oberschwaben – Gastgeber: RFV Wolfegg 🏇✨ \n\n📍 Wo? tbd.\n📅 Wann? Samstag\, 07. November 2026\n\nDer PSKO-Ball 2026 wird ein ganz besonderer Abend – denn wir feiern unsere Ehrungen des Pferdesportkreis Oberschwaben mit unserem Gastgeber dem RFV Wolfegg!\nFreut euch mit uns und dem Team vom RFV Wolfegg auf einen festlichen Ballabnd mit Musik\, Tanz\, kulinarischen Highlights und vielen schönen Begegnungen.\n\n✨ Gemeinsam blicken wir zurück auf die Erfolge der Saison im Pferdesport\, in der Gemeinschaft und mit ganz viel Leidenschaft – und stoßen auf die Zukunft an!\n\nOb Reiter\, Funktionär\, Ehrenamtlicher oder Pferdefreund – alle PSKO-Mitglieder und Gäste sind herzlich eingeladen\, diesen festlichen Anlass mit uns zu genießen.\n\nWeitere Infos zur Anmeldung und zum Ablauf & Infos zu den zu Ehrenden Sportlern: zeitnah!
LOCATION:RFV Wolfegg\, Eisweiher 1\, D - 88364 Wolfegg
END:VEVENT
END:VCALENDAR
