BEGIN:VCALENDAR
VERSION:2.0
PRODID:-//PSK Oberschwaben//ICS Export//DE
CALSCALE:GREGORIAN
BEGIN:VTIMEZONE
TZID:Europe/Berlin
X-LIC-LOCATION:Europe/Berlin
BEGIN:DAYLIGHT
TZOFFSETFROM:+0100
TZOFFSETTO:+0200
TZNAME:CEST
DTSTART:19700329T020000
RRULE:FREQ=YEARLY;BYMONTH=3;BYDAY=-1SU
END:DAYLIGHT
BEGIN:STANDARD
TZOFFSETFROM:+0200
TZOFFSETTO:+0100
TZNAME:CET
DTSTART:19701025T030000
RRULE:FREQ=YEARLY;BYMONTH=10;BYDAY=-1SU
END:STANDARD
END:VTIMEZONE
BEGIN:VEVENT
UID:7d1d99f5cb5ea048826df870a433d6c27c42f8b2@psk-oberschwaben.de
DTSTAMP:20260420T021615Z
DTSTART;TZID=Europe/Berlin:20261120T180000
DTEND;TZID=Europe/Berlin:20261121T150000
SUMMARY:📅Einladung zur WPSV-Ausschusssitzung: 20+21. November 2026 in Laichingen‑Feldstetten 📅📣
DESCRIPTION:📣 Einladung zur WPSV-Ausschusssitzung 📣\n\nLiebe Ausschussmitglieder\,\n\nes ist wieder soweit – die WPSV-Ausschusssitzung steht an!\nZwei Tage voller Austausch\, Entscheidungen und Weichenstellungen für die Zukunft unseres Verbandes.\n\n📅 Wann?\n20. – 21. November 2026\n\n📍 Wo?\nHotel Post\nLangestraße 60\, 89150 Laichingen-Feldstetten\n\n✨ Was erwartet euch?\n\n\n	Wichtige Themen und Beschlüsse & Rückblick und Ausblick Saison\n	Raum für Diskussion und neue Ideen\n	Gemeinsamer Blick in die Zukunft des Pferdesports\n\n\nSeid dabei und gestaltet aktiv mit!\nWir freuen uns auf euch!\n\n\n \nLink: WPSV-Ausschusssitzung Datum/Uhrzeit: 20.11.2026 – 21.11.2026  Ort: Hotel Post\, Laichingen-Feldstetten (https://www.wpsv.de/de/termine/terminleser/wpsv-ausschusssitzung-1324.html)
LOCATION:Hotel Post\, Langestraße 60\, 89150 Laichingen-Feldstetten
ATTACH:https://www.wpsv.de/de/termine/terminleser/wpsv-ausschusssitzung-1324.html
END:VEVENT
END:VCALENDAR
