BEGIN:VCALENDAR
VERSION:2.0
PRODID:-//PSK Oberschwaben//ICS Export//DE
CALSCALE:GREGORIAN
BEGIN:VTIMEZONE
TZID:Europe/Berlin
X-LIC-LOCATION:Europe/Berlin
BEGIN:DAYLIGHT
TZOFFSETFROM:+0100
TZOFFSETTO:+0200
TZNAME:CEST
DTSTART:19700329T020000
RRULE:FREQ=YEARLY;BYMONTH=3;BYDAY=-1SU
END:DAYLIGHT
BEGIN:STANDARD
TZOFFSETFROM:+0200
TZOFFSETTO:+0100
TZNAME:CET
DTSTART:19701025T030000
RRULE:FREQ=YEARLY;BYMONTH=10;BYDAY=-1SU
END:STANDARD
END:VTIMEZONE
BEGIN:VEVENT
UID:1d5f0895dfee1aa67dbfec7b5c2f9f809d7e06de@psk-oberschwaben.de
DTSTAMP:20260420T053404Z
DTSTART;TZID=Europe/Berlin:20261010T080000
DTEND;TZID=Europe/Berlin:20261011T180000
SUMMARY:🌟 WPSV - Fördergruppenvergleichsturnier U14 – Dressur & Springen 🌟
DESCRIPTION:🌟 Einladung zum Fördergruppenvergleichsturnier U14 – Dressur & Springen 🌟\n\nLiebe Nachwuchsreiterinnen und -reiter\,\n\njetzt wird’s spannend! Das Fördergruppenvergleichsturnier U14 steht vor der Tür – zwei Tage voller Talent\, Teamgeist und Action in Dressur und Springen.\n\n📅 Wann?\n10. – 11. Oktober 2026\n\n📍 Wo?\nReit- und Fahrverein Schwendi e.V.\nSchochengraben 2\, 88477 Schwendi\n\n✨ Was erwartet euch?\n\n\n	Vergleich der besten Fördergruppen U14 in Dressur & Springen\n	Nachwuchstalente zeigen ihr Können\n	Ein Treffpunkt für alle\, die den Pferdesport lieben!\n\n\nKommt vorbei und erlebt die Stars von morgen!\nWir freuen uns auf euch!\n\n\n \nLink: Fördergruppenvergleichsturnier Datum/Uhrzeit: 10.10.2026 – 11.10.2026  Ort: RFV Schwendi (https://www.wpsv.de/de/termine/terminleser/foerdergruppenvergleichsturnier-1320.html)
LOCATION:Reit- und Fahrverein Schwendi e.V.\, Schochengraben 2\, 88477 Schwendi\, Baden-Württemberg
ATTACH:https://www.wpsv.de/de/termine/terminleser/foerdergruppenvergleichsturnier-1320.html
END:VEVENT
END:VCALENDAR
