BEGIN:VCALENDAR
VERSION:2.0
PRODID:-//PSK Oberschwaben//ICS Export//DE
CALSCALE:GREGORIAN
BEGIN:VTIMEZONE
TZID:Europe/Berlin
X-LIC-LOCATION:Europe/Berlin
BEGIN:DAYLIGHT
TZOFFSETFROM:+0100
TZOFFSETTO:+0200
TZNAME:CEST
DTSTART:19700329T020000
RRULE:FREQ=YEARLY;BYMONTH=3;BYDAY=-1SU
END:DAYLIGHT
BEGIN:STANDARD
TZOFFSETFROM:+0200
TZOFFSETTO:+0100
TZNAME:CET
DTSTART:19701025T030000
RRULE:FREQ=YEARLY;BYMONTH=10;BYDAY=-1SU
END:STANDARD
END:VTIMEZONE
BEGIN:VEVENT
UID:402bebc3b4d7b32808acf76cd70234a32e2f7bb0@psk-oberschwaben.de
DTSTAMP:20260420T021620Z
DTSTART;TZID=Europe/Berlin:20260927T090000
DTEND;TZID=Europe/Berlin:20261004T180000
SUMMARY:🌟 Landwirtschaftlichen Hauptfest Cannstatter Wasen 🌟
DESCRIPTION:🌾 Einladung zum Landwirtschaftlichen Hauptfest 🌾\nmit dem großen Finale des Schulpferdecups!\n\nLiebe Pferdesport- und Landwirtschaftsfreunde\,\n\ndas Landwirtschaftliche Hauptfest auf dem Cannstatter Wasen ist DAS Event des Jahres – und wir sind mittendrin!\nErlebt eine Woche voller Tradition\, Innovation und Pferdesport-Highlights.\n\n📅 Wann?\n27. September – 04. Oktober 2026\n\n📍 Wo?\nStuttgart – Bad Cannstatt – Cannstatter Wasen\n\n🐴 Besonderes Highlight:\nDas Finale des Schulpferdecups – Spannung pur und ein Muss für alle Pferdefans!\n\n✨ Was erwartet euch?\n\n\n	Landwirtschaft hautnah erleben\n	Pferdesport in seiner schönsten Form\n	Ein Fest für die ganze Familie\n\n\nKommt vorbei und feiert mit uns!\nWir freuen uns auf euch!\n\n\n \nLink: Württembergisches Pferdefestival Datum/Uhrzeit: 12.09.2026 – 13.09.2026  Ort: RFV Blaubeuren und Umgebung (https://www.wpsv.de/de/termine/terminleser/wuerttembergisches-pferdefestival.html)\nPDF: https://psk-oberschwaben.de/site/assets/files/1978/2025-11-27_uberblick_schulpferdecup_2026_v2_ah.pdf
LOCATION:Cannstatter Wasen\, Mercedesstraße 50\, 70372 Stuttgart (Bad Cannstatt)
ATTACH:https://www.wpsv.de/de/termine/terminleser/wuerttembergisches-pferdefestival.html
ATTACH:https://psk-oberschwaben.de/site/assets/files/1978/2025-11-27_uberblick_schulpferdecup_2026_v2_ah.pdf
END:VEVENT
END:VCALENDAR
