BEGIN:VCALENDAR
VERSION:2.0
PRODID:-//PSK Oberschwaben//ICS Export//DE
CALSCALE:GREGORIAN
BEGIN:VTIMEZONE
TZID:Europe/Berlin
X-LIC-LOCATION:Europe/Berlin
BEGIN:DAYLIGHT
TZOFFSETFROM:+0100
TZOFFSETTO:+0200
TZNAME:CEST
DTSTART:19700329T020000
RRULE:FREQ=YEARLY;BYMONTH=3;BYDAY=-1SU
END:DAYLIGHT
BEGIN:STANDARD
TZOFFSETFROM:+0200
TZOFFSETTO:+0100
TZNAME:CET
DTSTART:19701025T030000
RRULE:FREQ=YEARLY;BYMONTH=10;BYDAY=-1SU
END:STANDARD
END:VTIMEZONE
BEGIN:VEVENT
UID:89f46861c62ed223bd365551ad91c43737652d29@psk-oberschwaben.de
DTSTAMP:20260420T065345Z
DTSTART;TZID=Europe/Berlin:20260912T090000
DTEND;TZID=Europe/Berlin:20260913T180000
SUMMARY:🌟 Württembergisches Pferdefestival Blaubeuren 🌟
DESCRIPTION:🎠 Einladung zum Württembergischen Pferdefestival 🎠\n\nLiebe Pferdesportfreunde\,\n\nseid dabei\, wenn Blaubeuren zum Zentrum des Pferdesports wird!\nDas Württembergische Pferdefestival bietet euch zwei Tage voller Action\, Eleganz und Leidenschaft.\n\n📅 Wann?\n12. – 13. September 2026\n\n📍 Wo?\nReit- und Fahrverein Blaubeuren und Umgebung e.V.\nHessenhöfe 10\, 89143 Blaubeuren\n\n✨ Was erwartet euch?\n\n\n	Spannende Prüfungen und Shows\n	Ein Treffpunkt für alle Pferdesportfans\n	Festivalstimmung mit Sport\, Spaß und Emotionen\n\n\nKommt vorbei und feiert mit uns den Pferdesport!\nWir freuen uns auf euch!\n\n\n \nLink: Württembergisches Pferdefestival Datum/Uhrzeit: 12.09.2026 – 13.09.2026  Ort: RFV Blaubeuren und Umgebung (https://www.wpsv.de/de/termine/terminleser/wuerttembergisches-pferdefestival.html)
LOCATION:Reit- und Fahrverein Blaubeuren und Umgebung e.V.\, Hessenhöfe 10\, 89143 Blaubeuren
ATTACH:https://www.wpsv.de/de/termine/terminleser/wuerttembergisches-pferdefestival.html
END:VEVENT
END:VCALENDAR
