BEGIN:VCALENDAR
VERSION:2.0
PRODID:-//PSK Oberschwaben//ICS Export//DE
CALSCALE:GREGORIAN
BEGIN:VTIMEZONE
TZID:Europe/Berlin
X-LIC-LOCATION:Europe/Berlin
BEGIN:DAYLIGHT
TZOFFSETFROM:+0100
TZOFFSETTO:+0200
TZNAME:CEST
DTSTART:19700329T020000
RRULE:FREQ=YEARLY;BYMONTH=3;BYDAY=-1SU
END:DAYLIGHT
BEGIN:STANDARD
TZOFFSETFROM:+0200
TZOFFSETTO:+0100
TZNAME:CET
DTSTART:19701025T030000
RRULE:FREQ=YEARLY;BYMONTH=10;BYDAY=-1SU
END:STANDARD
END:VTIMEZONE
BEGIN:VEVENT
UID:6b829f4b069cac6704956ea8af5324c29e8e38f2@psk-oberschwaben.de
DTSTAMP:20260420T021605Z
DTSTART;TZID=Europe/Berlin:20260827T080000
DTEND;TZID=Europe/Berlin:20260830T180000
SUMMARY:🏆 WPSV - Württembergische Meisterschaft Dressur und Springen\, Einzel - Großpferde und Ponys 🏆
DESCRIPTION:🏆 Einladung zur Württembergischen Meisterschaft Dressur & Springen 🏆\nEinzel – Großpferde & Ponys\n\nLiebe Pferdesportfreunde\,\n\ndas Highlight des Jahres steht bevor! Die Württembergische Meisterschaft Dressur und Springen bringt vier Tage voller Spannung\, Eleganz und Action – für Großpferde und Ponys.\n\n📅 Wann?\n27. – 30. August 2026\n\n📍 Wo?\nReit- und Fahrverein Weilheim an der Teck e.V.\nKornbergstraße 85\, 73235 Weilheim an der Teck\n\n✨ Was erwartet euch?\n\n\n	Hochklassige Prüfungen in Dressur und Springen\n	Die besten Reiterinnen und Reiter aus Württemberg\n	Meisterschaftsflair und jede Menge Emotionen\n\n\nKommt vorbei und erlebt Pferdesport auf höchstem Niveau!\nWir freuen uns auf euch!\n\n\n \nLink: Württembergische Meisterschaft Dressur und Springen\, Einzel - Großpferde und Ponys Datum/Uhrzeit: 27.08.2026 – 30.08.2026  Ort: RFV Weilheim/Teck (https://www.wpsv.de/de/termine/terminleser/wuerttembergische-meisterschaft-dressur-und-springen-einzel-grosspferde-und-ponys.html)
LOCATION:Reit- und Fahrvereins Weilheim an der Teck e.V.\, Kornbergstraße 85\, 73235 Weilheim an der Teck\, Baden-Württemberg.
ATTACH:https://www.wpsv.de/de/termine/terminleser/wuerttembergische-meisterschaft-dressur-und-springen-einzel-grosspferde-und-ponys.html
END:VEVENT
END:VCALENDAR
