BEGIN:VCALENDAR
VERSION:2.0
PRODID:-//PSK Oberschwaben//ICS Export//DE
CALSCALE:GREGORIAN
BEGIN:VTIMEZONE
TZID:Europe/Berlin
X-LIC-LOCATION:Europe/Berlin
BEGIN:DAYLIGHT
TZOFFSETFROM:+0100
TZOFFSETTO:+0200
TZNAME:CEST
DTSTART:19700329T020000
RRULE:FREQ=YEARLY;BYMONTH=3;BYDAY=-1SU
END:DAYLIGHT
BEGIN:STANDARD
TZOFFSETFROM:+0200
TZOFFSETTO:+0100
TZNAME:CET
DTSTART:19701025T030000
RRULE:FREQ=YEARLY;BYMONTH=10;BYDAY=-1SU
END:STANDARD
END:VTIMEZONE
BEGIN:VEVENT
UID:577803f4c75b85d34476cb4a3cccc680719044b2@psk-oberschwaben.de
DTSTAMP:20260420T021550Z
DTSTART;TZID=Europe/Berlin:20260820T090000
DTEND;TZID=Europe/Berlin:20260820T180000
SUMMARY:📌 STATION LANDESJUGENDCUP! HuL Marbach:  WPSV - Station in Württemberg – Dressur 🏇
DESCRIPTION:📌 SAVE THE DATE! WPSV\n\n🌟 Einladung zur Station Landesjugendcup in Württemberg – Dressur  🌟\n\nLiebe Reitsportfreunde\,\n\nseid dabei\, wenn die besten Talente sich präsentieren!\nDer WPSV-Landesjugendcup in Württemberg bietet euch Tage voller Spannung\, Eleganz und Action:\n\n📅 Wann?\n20. August 2026\n\n📍 Wo?\nHuL Marbach (Dressurfestival)\n\n🐴 Was erwartet euch?\n\n\n	Hochklassige Prüfungen in Dressur \n	Sichtung für die Nachwuchstalente des Württembergischen Pferdesportverbandes\n	\n	Station Landesjugendcup in Württemberg für Dressur \n	\n	Ein Treffpunkt für alle\, die den Pferdesport lieben!\n\n\nKommt vorbei\, feuert an und erlebt Reitsport auf höchstem Niveau!\nWir freuen uns auf euch!\n\n\n \nLink: Station Landesjugendcup in Württemberg Datum/Uhrzeit: 20.08.2026  Ort: HuL Marbach (Dressurfestival)  Nur Dressur! (https://www.wpsv.de/de/termine/terminleser/station-landesjugendcup-in-wuerttemberg-1335.html)
LOCATION:Haupt- und Landgestüt Marbach  Gestütshof Marbach 1\, D-72532 Gomadingen
ATTACH:https://www.wpsv.de/de/termine/terminleser/station-landesjugendcup-in-wuerttemberg-1335.html
END:VEVENT
END:VCALENDAR
