BEGIN:VCALENDAR
VERSION:2.0
PRODID:-//PSK Oberschwaben//ICS Export//DE
CALSCALE:GREGORIAN
BEGIN:VTIMEZONE
TZID:Europe/Berlin
X-LIC-LOCATION:Europe/Berlin
BEGIN:DAYLIGHT
TZOFFSETFROM:+0100
TZOFFSETTO:+0200
TZNAME:CEST
DTSTART:19700329T020000
RRULE:FREQ=YEARLY;BYMONTH=3;BYDAY=-1SU
END:DAYLIGHT
BEGIN:STANDARD
TZOFFSETFROM:+0200
TZOFFSETTO:+0100
TZNAME:CET
DTSTART:19701025T030000
RRULE:FREQ=YEARLY;BYMONTH=10;BYDAY=-1SU
END:STANDARD
END:VTIMEZONE
BEGIN:VEVENT
UID:e60b67be9820a9f4f29f3cc93d993537159b9089@psk-oberschwaben.de
DTSTAMP:20260420T053356Z
DTSTART;TZID=Europe/Berlin:20260820T090000
DTEND;TZID=Europe/Berlin:20260823T180000
SUMMARY:🌟 Dressurfestival im HuL Marbach 🌟
DESCRIPTION:🌟 Einladung zum Dressurfestival im HuL Marbach 🌟\n\nLiebe Pferdesportfreunde\,\n\ndas Highlight des Sommers steht bevor:\nDas Dressurfestival im Haupt- und Landgestüt Marbach – vier Tage voller Eleganz\, Präzision und Leidenschaft für den Dressursport!\n\n📅 Wann?\n20. – 23. August 2026\n\n📍 Wo?\nHaupt- und Landgestüt Marbach\nGestütsstraße 1\, 72532 Gomadingen\n\n✨ Was erwartet euch?\n\n\n	Hochklassige Dressurprüfungen\n	Einzigartige Atmosphäre im historischen Gestüt\n	Treffpunkt für Reitsportfans aus ganz Württemberg\n\n\nSeid dabei und genießt Dressursport auf höchstem Niveau!\nWir freuen uns auf euch!\n\n\n \nLink: Dressurfestival HuL Marbach Datum/Uhrzeit: 20.08.2026 – 23.08.2026  Ort: Haupt- und Landgestüt Marbach (https://www.wpsv.de/de/termine/terminleser/dressurfestival-hul-marbach-1316.html)
LOCATION:Haupt- und Landgestüt Marbach  Gestütshof Marbach 1\, D-72532 Gomadingen
ATTACH:https://www.wpsv.de/de/termine/terminleser/dressurfestival-hul-marbach-1316.html
END:VEVENT
END:VCALENDAR
