BEGIN:VCALENDAR
VERSION:2.0
PRODID:-//PSK Oberschwaben//ICS Export//DE
CALSCALE:GREGORIAN
BEGIN:VTIMEZONE
TZID:Europe/Berlin
X-LIC-LOCATION:Europe/Berlin
BEGIN:DAYLIGHT
TZOFFSETFROM:+0100
TZOFFSETTO:+0200
TZNAME:CEST
DTSTART:19700329T020000
RRULE:FREQ=YEARLY;BYMONTH=3;BYDAY=-1SU
END:DAYLIGHT
BEGIN:STANDARD
TZOFFSETFROM:+0200
TZOFFSETTO:+0100
TZNAME:CET
DTSTART:19701025T030000
RRULE:FREQ=YEARLY;BYMONTH=10;BYDAY=-1SU
END:STANDARD
END:VTIMEZONE
BEGIN:VEVENT
UID:0d48feff28e4ffa399b413f0d871eae85a1f891a@psk-oberschwaben.de
DTSTAMP:20260420T021636Z
DTSTART;TZID=Europe/Berlin:20260731T090000
DTEND;TZID=Europe/Berlin:20260802T180000
SUMMARY:📌 STATION LANDESJUGENDCUP! Öhringen:  WPSV - Station in Württemberg – Dressur & Springen 🏇
DESCRIPTION:📌 SAVE THE DATE! WPSV\n\n🌟 Einladung zur Station Landesjugendcup in Württemberg – Dressur & Springen 🌟\n\nLiebe Reitsportfreunde\,\n\nseid dabei\, wenn die besten Talente sich präsentieren!\nDer WPSV-Landesjugendcup in Württemberg bietet euch drei Tage voller Spannung\, Eleganz und Action:\n\n📅 Wann?\n31.07. - 02.08.2026\n\n📍 Wo?\nRFV Öhringen\n\n🐴 Was erwartet euch?\n\n\n	Hochklassige Prüfungen in Dressur und Springen\n	Sichtung für die Nachwuchstalente des Württembergischen Pferdesportverbandes\n	\n	Station Landesjugendcup in Württemberg für Dressur & Springen\n	\n	Ein Treffpunkt für alle\, die den Pferdesport lieben!\n\n\nKommt vorbei\, feuert an und erlebt Reitsport auf höchstem Niveau!\nWir freuen uns auf euch!\n\n\n \nLink: Station Landesjugendcup in Württemberg Datum/Uhrzeit: 31.07.2026 – 02.08.2026 Ort: RFV Öhringen (https://www.wpsv.de/de/termine/terminleser/station-landesjugendcup-in-wuerttemberg-1334.html)
LOCATION:Reit- und Fahrvereins Öhringen e.V.\, Hornbergstraße 2\, 74613 Öhringen (Cappel)\, Baden-Württemberg
ATTACH:https://www.wpsv.de/de/termine/terminleser/station-landesjugendcup-in-wuerttemberg-1334.html
END:VEVENT
END:VCALENDAR
