BEGIN:VCALENDAR
VERSION:2.0
PRODID:-//PSK Oberschwaben//ICS Export//DE
CALSCALE:GREGORIAN
BEGIN:VTIMEZONE
TZID:Europe/Berlin
X-LIC-LOCATION:Europe/Berlin
BEGIN:DAYLIGHT
TZOFFSETFROM:+0100
TZOFFSETTO:+0200
TZNAME:CEST
DTSTART:19700329T020000
RRULE:FREQ=YEARLY;BYMONTH=3;BYDAY=-1SU
END:DAYLIGHT
BEGIN:STANDARD
TZOFFSETFROM:+0200
TZOFFSETTO:+0100
TZNAME:CET
DTSTART:19701025T030000
RRULE:FREQ=YEARLY;BYMONTH=10;BYDAY=-1SU
END:STANDARD
END:VTIMEZONE
BEGIN:VEVENT
UID:8486585aff9745461b74c0a8098ad4eac396250d@psk-oberschwaben.de
DTSTAMP:20260420T065356Z
DTSTART;TZID=Europe/Berlin:20260619T090000
DTEND;TZID=Europe/Berlin:20260621T180000
SUMMARY:📌 STATION LANDESJUGENDCUP! Dettinger Alb:  WPSV - Station in Württemberg – Springen 🏇
DESCRIPTION:📌 SAVE THE DATE! WPSV\n\n🌟 Einladung zur Station Landesjugendcup in Württemberg – Springen  🌟\n\nLiebe Reitsportfreunde\,\n\nseid dabei\, wenn die besten Talente sich präsentieren!\nDer WPSV-Landesjugendcup in Württemberg bietet euch drei Tage voller Spannung\, Eleganz und Action:\n\n📅 Wann?\n19. – 21. Juni 2026\n\n📍 Wo?\nRSG Dettinger Alb\n\n🐴 Was erwartet euch?\n\n\n	Hochklassige Prüfungen in Springen\n	Sichtung für die Nachwuchstalente des Württembergischen Pferdesportverbandes\n	\n	Station Landesjugendcup in Württemberg für Springen \n	\n	Ein Treffpunkt für alle\, die den Pferdesport lieben!\n\n\nKommt vorbei\, feuert an und erlebt Reitsport auf höchstem Niveau!\nWir freuen uns auf euch!\n\n\n \nLink: Station Landesjugendcup in Württemberg Datum/Uhrzeit: 19.06.2026 – 21.06.2026 (https://www.wpsv.de/de/termine/terminleser/station-landesjugendcup-in-wuerttemberg-1333.html)
LOCATION:RSG Dettinger Alb (Reitsportgemeinschaft Dettinger Alb e.V.)\, Mühlstraße 28\, 89547 Gerstetten (Dettingen)\, Baden-Württemberg
ATTACH:https://www.wpsv.de/de/termine/terminleser/station-landesjugendcup-in-wuerttemberg-1333.html
END:VEVENT
END:VCALENDAR
