BEGIN:VCALENDAR
VERSION:2.0
PRODID:-//PSK Oberschwaben//ICS Export//DE
CALSCALE:GREGORIAN
BEGIN:VTIMEZONE
TZID:Europe/Berlin
X-LIC-LOCATION:Europe/Berlin
BEGIN:DAYLIGHT
TZOFFSETFROM:+0100
TZOFFSETTO:+0200
TZNAME:CEST
DTSTART:19700329T020000
RRULE:FREQ=YEARLY;BYMONTH=3;BYDAY=-1SU
END:DAYLIGHT
BEGIN:STANDARD
TZOFFSETFROM:+0200
TZOFFSETTO:+0100
TZNAME:CET
DTSTART:19701025T030000
RRULE:FREQ=YEARLY;BYMONTH=10;BYDAY=-1SU
END:STANDARD
END:VTIMEZONE
BEGIN:VEVENT
UID:79decf3aa9d1ad88c7f6245d7b88ca33d41ec3da@psk-oberschwaben.de
DTSTAMP:20260420T053351Z
DTSTART;TZID=Europe/Berlin:20260514T090000
DTEND;TZID=Europe/Berlin:20260514T180000
SUMMARY:📌 STATION LANDESJUGENDCUP! Ehingen:  WPSV - Station in Württemberg – Dressur & Springen 🏇
DESCRIPTION:📌 SAVE THE DATE! WPSV\n\n🌟 Einladung zur Station Landesjugendcup in Württemberg – Dressur & Springen 🌟\n\nLiebe Reitsportfreunde\,\n\nseid dabei\, wenn die besten Talente sich präsentieren!\nDer WPSV-Landesjugendcup in Württemberg bietet euch einen Tag voller Spannung\, Eleganz und Action:\n\n📅 Wann?\n14. Mai 2026\n\n📍 Wo?\nRFV Ehingen\n\n🐴 Was erwartet euch?\n\n\n	Hochklassige Prüfungen in Dressur und Springen\n	Sichtung für die Nachwuchstalente des Württembergischen Pferdesportverbandes\n	\n	Station Landesjugendcup in Württemberg für Dressur & Springen\n	\n	Ein Treffpunkt für alle\, die den Pferdesport lieben!\n\n\nKommt vorbei\, feuert an und erlebt Reitsport auf höchstem Niveau!\nWir freuen uns auf euch!\n\n\n \nLink: Station Landesjugendcup in Württemberg Datum/Uhrzeit: 14.05.2026 Ort: RFV Ehingen (https://www.wpsv.de/de/termine/terminleser/station-landesjugendcup-in-wuerttemberg-1331.html)
LOCATION:Reit- und Fahrvereins Ehingen e.V.\, Jungviehweide 2 89584 Ehingen (Donau)\, Baden-Württemberg
ATTACH:https://www.wpsv.de/de/termine/terminleser/station-landesjugendcup-in-wuerttemberg-1331.html
END:VEVENT
END:VCALENDAR
